BEGIN:VCALENDAR
VERSION:2.0
PRODID:-//LWV-RMA - ECPv6.15.17//NONSGML v1.0//EN
CALSCALE:GREGORIAN
METHOD:PUBLISH
X-ORIGINAL-URL:https://www.lwv-rva.org
X-WR-CALDESC:Events for LWV-RMA
REFRESH-INTERVAL;VALUE=DURATION:PT1H
X-Robots-Tag:noindex
X-PUBLISHED-TTL:PT1H
BEGIN:VTIMEZONE
TZID:America/New_York
BEGIN:DAYLIGHT
TZOFFSETFROM:-0500
TZOFFSETTO:-0400
TZNAME:EDT
DTSTART:20250309T070000
END:DAYLIGHT
BEGIN:STANDARD
TZOFFSETFROM:-0400
TZOFFSETTO:-0500
TZNAME:EST
DTSTART:20251102T060000
END:STANDARD
BEGIN:DAYLIGHT
TZOFFSETFROM:-0500
TZOFFSETTO:-0400
TZNAME:EDT
DTSTART:20260308T070000
END:DAYLIGHT
BEGIN:STANDARD
TZOFFSETFROM:-0400
TZOFFSETTO:-0500
TZNAME:EST
DTSTART:20261101T060000
END:STANDARD
BEGIN:DAYLIGHT
TZOFFSETFROM:-0500
TZOFFSETTO:-0400
TZNAME:EDT
DTSTART:20270314T070000
END:DAYLIGHT
BEGIN:STANDARD
TZOFFSETFROM:-0400
TZOFFSETTO:-0500
TZNAME:EST
DTSTART:20271107T060000
END:STANDARD
END:VTIMEZONE
BEGIN:VEVENT
DTSTART;TZID=America/New_York:20260615T180000
DTEND;TZID=America/New_York:20260615T190000
DTSTAMP:20260423T133939
CREATED:20260417T130902Z
LAST-MODIFIED:20260417T130902Z
UID:6989-1781546400-1781550000@www.lwv-rva.org
SUMMARY:LWV RMA DEI Committee Meeting
DESCRIPTION:LWV RMA DEI Committee Meeting
URL:https://www.lwv-rva.org/event/lwv-rma-dei-committee-meeting-8/
LOCATION:Zoom
CATEGORIES:Committee Meeting,Diversity Equity & Inclusion
ORGANIZER;CN="Roxanne Rucker":MAILTO:ryrucker@outlook.com
END:VEVENT
BEGIN:VEVENT
DTSTART;TZID=America/New_York:20260616T170000
DTEND;TZID=America/New_York:20260616T180000
DTSTAMP:20260423T133939
CREATED:20260417T131113Z
LAST-MODIFIED:20260417T131113Z
UID:6991-1781629200-1781632800@www.lwv-rva.org
SUMMARY:LWV RMA Events Planning Subcommittee Meeting
DESCRIPTION:LWV RMA Events Planning Subcommittee Meeting
URL:https://www.lwv-rva.org/event/lwv-rma-events-planning-subcommittee-meeting-5/
LOCATION:Zoom
CATEGORIES:Committee Meeting,Events Planning
ORGANIZER;CN="Fran Eckenrode":MAILTO:feckenr@gmail.com
END:VEVENT
BEGIN:VEVENT
DTSTART;TZID=America/New_York:20260618T173000
DTEND;TZID=America/New_York:20260618T183000
DTSTAMP:20260423T133939
CREATED:20260417T131646Z
LAST-MODIFIED:20260417T131646Z
UID:6995-1781803800-1781807400@www.lwv-rva.org
SUMMARY:LWV RMA Voter Services Meeting
DESCRIPTION:LWV RMA Voter Services Meeting
URL:https://www.lwv-rva.org/event/lwv-rma-voter-services-meeting-3/
LOCATION:Zoom
CATEGORIES:Committee Meeting,Voter Services
ORGANIZER;CN="Mary Crutchfield":MAILTO:marycrutchfield6@gmail.com
END:VEVENT
BEGIN:VEVENT
DTSTART;TZID=America/New_York:20260622T133000
DTEND;TZID=America/New_York:20260622T143000
DTSTAMP:20260423T133939
CREATED:20260417T132143Z
LAST-MODIFIED:20260417T132159Z
UID:6997-1782135000-1782138600@www.lwv-rva.org
SUMMARY:LWV RMA Electoral Observation Committee Meeting
DESCRIPTION:LWV RMA Electoral Observation Committee Meeting
URL:https://www.lwv-rva.org/event/lwv-rma-electoral-observation-committee-meeting-3/
LOCATION:Zoom
CATEGORIES:Committee Meeting,Electoral Board Observation Committee
ORGANIZER;CN="Louise Evans":MAILTO:lsmithevans@comcast,net
END:VEVENT
BEGIN:VEVENT
DTSTART;TZID=America/New_York:20260623T143000
DTEND;TZID=America/New_York:20260623T153000
DTSTAMP:20260423T133939
CREATED:20260417T132453Z
LAST-MODIFIED:20260417T132453Z
UID:7000-1782225000-1782228600@www.lwv-rva.org
SUMMARY:LWV RMA Membership and Engagement Committee Meeting
DESCRIPTION:LWV RMA Membership and Engagement Committee Meeting
URL:https://www.lwv-rva.org/event/lwv-rma-membership-and-engagement-committee-meeting-7/
LOCATION:Zoom
CATEGORIES:Committee Meeting,Membership and Engagment Committee
ORGANIZER;CN="Carol Stephens":MAILTO:carterstephens69@icloud.com
END:VEVENT
BEGIN:VEVENT
DTSTART;TZID=America/New_York:20260624T120000
DTEND;TZID=America/New_York:20260624T130000
DTSTAMP:20260423T133939
CREATED:20260417T132820Z
LAST-MODIFIED:20260417T132820Z
UID:7002-1782302400-1782306000@www.lwv-rva.org
SUMMARY:LWV RMA Affordable Housing Committee Meeting
DESCRIPTION:LWV RMA Affordable Housing Committee Meeting
URL:https://www.lwv-rva.org/event/lwv-rma-affordable-housing-committee-meeting-11/
LOCATION:Zoom
CATEGORIES:Affordable Housing,Committee Meeting
ORGANIZER;CN="Marilyn Breslow":MAILTO:marilyn.breslow@gmail.com
END:VEVENT
END:VCALENDAR