BEGIN:VCALENDAR
VERSION:2.0
PRODID:-//LWV-RMA - ECPv6.15.17//NONSGML v1.0//EN
CALSCALE:GREGORIAN
METHOD:PUBLISH
X-ORIGINAL-URL:https://www.lwv-rva.org
X-WR-CALDESC:Events for LWV-RMA
REFRESH-INTERVAL;VALUE=DURATION:PT1H
X-Robots-Tag:noindex
X-PUBLISHED-TTL:PT1H
BEGIN:VTIMEZONE
TZID:America/New_York
BEGIN:DAYLIGHT
TZOFFSETFROM:-0500
TZOFFSETTO:-0400
TZNAME:EDT
DTSTART:20230312T070000
END:DAYLIGHT
BEGIN:STANDARD
TZOFFSETFROM:-0400
TZOFFSETTO:-0500
TZNAME:EST
DTSTART:20231105T060000
END:STANDARD
BEGIN:DAYLIGHT
TZOFFSETFROM:-0500
TZOFFSETTO:-0400
TZNAME:EDT
DTSTART:20240310T070000
END:DAYLIGHT
BEGIN:STANDARD
TZOFFSETFROM:-0400
TZOFFSETTO:-0500
TZNAME:EST
DTSTART:20241103T060000
END:STANDARD
BEGIN:DAYLIGHT
TZOFFSETFROM:-0500
TZOFFSETTO:-0400
TZNAME:EDT
DTSTART:20250309T070000
END:DAYLIGHT
BEGIN:STANDARD
TZOFFSETFROM:-0400
TZOFFSETTO:-0500
TZNAME:EST
DTSTART:20251102T060000
END:STANDARD
END:VTIMEZONE
BEGIN:VEVENT
DTSTART;TZID=America/New_York:20240620T173000
DTEND;TZID=America/New_York:20240620T183000
DTSTAMP:20260423T192056
CREATED:20240330T011722Z
LAST-MODIFIED:20240330T011722Z
UID:5721-1718904600-1718908200@www.lwv-rva.org
SUMMARY:LWV RMA Voter Services Committee Meeting
DESCRIPTION:LWV RMA Voter Services Committee Meeting
URL:https://www.lwv-rva.org/event/lwv-rma-voter-services-committee-meeting-19/
LOCATION:Zoom
CATEGORIES:Committee Meeting,Voter Services
ORGANIZER;CN="Mary Crutchfield":MAILTO:marycrutchfield6@gmail.com
END:VEVENT
BEGIN:VEVENT
DTSTART;TZID=America/New_York:20240516T173000
DTEND;TZID=America/New_York:20240516T183000
DTSTAMP:20260423T192056
CREATED:20240330T011110Z
LAST-MODIFIED:20240330T011502Z
UID:5717-1715880600-1715884200@www.lwv-rva.org
SUMMARY:LWV RMA Voter Services Committee Meeting
DESCRIPTION:LWV RMA Voter Services Committee Meeting
URL:https://www.lwv-rva.org/event/lwv-rma-voter-services-committee-meeting-17/
LOCATION:Zoom
CATEGORIES:Committee Meeting,Voter Services
ORGANIZER;CN="Mary Crutchfield":MAILTO:marycrutchfield6@gmail.com
END:VEVENT
BEGIN:VEVENT
DTSTART;TZID=America/New_York:20240418T173000
DTEND;TZID=America/New_York:20240418T183000
DTSTAMP:20260423T192056
CREATED:20240330T010908Z
LAST-MODIFIED:20240330T010908Z
UID:5715-1713461400-1713465000@www.lwv-rva.org
SUMMARY:LWV RMA Voter Services Committee Meeting
DESCRIPTION:LWV RMA Voter Services Committee Meeting
URL:https://www.lwv-rva.org/event/lwv-rma-voter-services-committee-meeting-16/
LOCATION:Zoom
CATEGORIES:Committee Meeting,Voter Services
ORGANIZER;CN="Mary Crutchfield":MAILTO:marycrutchfield6@gmail.com
END:VEVENT
BEGIN:VEVENT
DTSTART;TZID=America/New_York:20240321T173000
DTEND;TZID=America/New_York:20240321T183000
DTSTAMP:20260423T192056
CREATED:20231216T184859Z
LAST-MODIFIED:20231216T184859Z
UID:5577-1711042200-1711045800@www.lwv-rva.org
SUMMARY:LWV RMA Voter Services Committee Meeting
DESCRIPTION:LWV RMA Voter Services Committee Meeting
URL:https://www.lwv-rva.org/event/lwv-rma-voter-services-committee-meeting-15/
LOCATION:Zoom
CATEGORIES:Committee Meeting,Voter Services
ORGANIZER;CN="Mary Crutchfield":MAILTO:marycrutchfield6@gmail.com
END:VEVENT
BEGIN:VEVENT
DTSTART;TZID=America/New_York:20240215T173000
DTEND;TZID=America/New_York:20240215T183000
DTSTAMP:20260423T192056
CREATED:20231216T184715Z
LAST-MODIFIED:20231216T184715Z
UID:5575-1708018200-1708021800@www.lwv-rva.org
SUMMARY:LWV RMA Voter Services Committee Meeting
DESCRIPTION:LWV RMA Voter Services Committee Meeting
URL:https://www.lwv-rva.org/event/lwv-rma-voter-services-committee-meeting-14/
LOCATION:Zoom
CATEGORIES:Committee Meeting,Voter Services
ORGANIZER;CN="Mary Crutchfield":MAILTO:marycrutchfield6@gmail.com
END:VEVENT
END:VCALENDAR