BEGIN:VCALENDAR
VERSION:2.0
PRODID:-//LWV-RMA - ECPv6.15.17//NONSGML v1.0//EN
CALSCALE:GREGORIAN
METHOD:PUBLISH
X-ORIGINAL-URL:https://www.lwv-rva.org
X-WR-CALDESC:Events for LWV-RMA
REFRESH-INTERVAL;VALUE=DURATION:PT1H
X-Robots-Tag:noindex
X-PUBLISHED-TTL:PT1H
BEGIN:VTIMEZONE
TZID:America/New_York
BEGIN:DAYLIGHT
TZOFFSETFROM:-0500
TZOFFSETTO:-0400
TZNAME:EDT
DTSTART:20230312T070000
END:DAYLIGHT
BEGIN:STANDARD
TZOFFSETFROM:-0400
TZOFFSETTO:-0500
TZNAME:EST
DTSTART:20231105T060000
END:STANDARD
BEGIN:DAYLIGHT
TZOFFSETFROM:-0500
TZOFFSETTO:-0400
TZNAME:EDT
DTSTART:20240310T070000
END:DAYLIGHT
BEGIN:STANDARD
TZOFFSETFROM:-0400
TZOFFSETTO:-0500
TZNAME:EST
DTSTART:20241103T060000
END:STANDARD
BEGIN:DAYLIGHT
TZOFFSETFROM:-0500
TZOFFSETTO:-0400
TZNAME:EDT
DTSTART:20250309T070000
END:DAYLIGHT
BEGIN:STANDARD
TZOFFSETFROM:-0400
TZOFFSETTO:-0500
TZNAME:EST
DTSTART:20251102T060000
END:STANDARD
END:VTIMEZONE
BEGIN:VEVENT
DTSTART;TZID=America/New_York:20240917T090000
DTEND;TZID=America/New_York:20240917T120000
DTSTAMP:20260423T232416
CREATED:20240828T022558Z
LAST-MODIFIED:20240828T022558Z
UID:5932-1726563600-1726574400@www.lwv-rva.org
SUMMARY:New Citizen Ceremony- Voter Information & Registration
DESCRIPTION:New Citizen Ceremony- We will have a table in the lobby to distribute voter information to our newest citizens.
URL:https://www.lwv-rva.org/event/new-citizen-ceremony-voter-information-registration/
LOCATION:Virginia Museum of History and Culture\, 428 N. Arthur Ashe Blvd.\, Richmond\, VA\, 23220\, United States
CATEGORIES:Naturalization Ceremony,Voter Registration
ORGANIZER;CN="Roxanne Rucker":MAILTO:ryrucker@outlook.com
END:VEVENT
END:VCALENDAR