BEGIN:VCALENDAR
VERSION:2.0
PRODID:-//LWV-RMA - ECPv6.15.17//NONSGML v1.0//EN
CALSCALE:GREGORIAN
METHOD:PUBLISH
X-ORIGINAL-URL:https://www.lwv-rva.org
X-WR-CALDESC:Events for LWV-RMA
REFRESH-INTERVAL;VALUE=DURATION:PT1H
X-Robots-Tag:noindex
X-PUBLISHED-TTL:PT1H
BEGIN:VTIMEZONE
TZID:America/New_York
BEGIN:DAYLIGHT
TZOFFSETFROM:-0500
TZOFFSETTO:-0400
TZNAME:EDT
DTSTART:20230312T070000
END:DAYLIGHT
BEGIN:STANDARD
TZOFFSETFROM:-0400
TZOFFSETTO:-0500
TZNAME:EST
DTSTART:20231105T060000
END:STANDARD
BEGIN:DAYLIGHT
TZOFFSETFROM:-0500
TZOFFSETTO:-0400
TZNAME:EDT
DTSTART:20240310T070000
END:DAYLIGHT
BEGIN:STANDARD
TZOFFSETFROM:-0400
TZOFFSETTO:-0500
TZNAME:EST
DTSTART:20241103T060000
END:STANDARD
BEGIN:DAYLIGHT
TZOFFSETFROM:-0500
TZOFFSETTO:-0400
TZNAME:EDT
DTSTART:20250309T070000
END:DAYLIGHT
BEGIN:STANDARD
TZOFFSETFROM:-0400
TZOFFSETTO:-0500
TZNAME:EST
DTSTART:20251102T060000
END:STANDARD
END:VTIMEZONE
BEGIN:VEVENT
DTSTART;TZID=America/New_York:20241117T140000
DTEND;TZID=America/New_York:20241117T153000
DTSTAMP:20260423T192132
CREATED:20241103T160352Z
LAST-MODIFIED:20241103T160352Z
UID:6080-1731852000-1731857400@www.lwv-rva.org
SUMMARY:LWV-VA Program:  Should Virginia Allow Citizen Initiatives on the Ballot?
DESCRIPTION:LWV-VA Program: Should Virginia Allow Citizen Initiatives on the Ballot?  Register on LWV-VA website.
URL:https://www.lwv-rva.org/event/lwv-va-program-should-virginia-allow-citizen-initiatives-on-the-ballot/
LOCATION:Zoom
CATEGORIES:Educated Voter
END:VEVENT
BEGIN:VEVENT
DTSTART;TZID=America/New_York:20241105T110000
DTEND;TZID=America/New_York:20241105T160000
DTSTAMP:20260423T192132
CREATED:20241103T145808Z
LAST-MODIFIED:20241103T145808Z
UID:6056-1730804400-1730822400@www.lwv-rva.org
SUMMARY:VARTY Tabling Event in Monroe Park
DESCRIPTION:VARTY Tabling Event in Monroe Park near VCU.
URL:https://www.lwv-rva.org/event/varty-tabling-event-in-monroe-park/
LOCATION:Monroe Park\, 620 W. Main St.\, Richmond\, VA\, 23220\, United States
CATEGORIES:Educated Voter,Voter Services,Voting
ORGANIZER;CN="Aria Lovelace":MAILTO:arialovelacejourno@gmail.com
END:VEVENT
END:VCALENDAR