BEGIN:VCALENDAR
VERSION:2.0
PRODID:-//LWV-RMA - ECPv6.15.17//NONSGML v1.0//EN
CALSCALE:GREGORIAN
METHOD:PUBLISH
X-WR-CALNAME:LWV-RMA
X-ORIGINAL-URL:https://www.lwv-rva.org
X-WR-CALDESC:Events for LWV-RMA
REFRESH-INTERVAL;VALUE=DURATION:PT1H
X-Robots-Tag:noindex
X-PUBLISHED-TTL:PT1H
BEGIN:VTIMEZONE
TZID:America/New_York
BEGIN:DAYLIGHT
TZOFFSETFROM:-0500
TZOFFSETTO:-0400
TZNAME:EDT
DTSTART:20240310T070000
END:DAYLIGHT
BEGIN:STANDARD
TZOFFSETFROM:-0400
TZOFFSETTO:-0500
TZNAME:EST
DTSTART:20241103T060000
END:STANDARD
BEGIN:DAYLIGHT
TZOFFSETFROM:-0500
TZOFFSETTO:-0400
TZNAME:EDT
DTSTART:20250309T070000
END:DAYLIGHT
BEGIN:STANDARD
TZOFFSETFROM:-0400
TZOFFSETTO:-0500
TZNAME:EST
DTSTART:20251102T060000
END:STANDARD
BEGIN:DAYLIGHT
TZOFFSETFROM:-0500
TZOFFSETTO:-0400
TZNAME:EDT
DTSTART:20260308T070000
END:DAYLIGHT
BEGIN:STANDARD
TZOFFSETFROM:-0400
TZOFFSETTO:-0500
TZNAME:EST
DTSTART:20261101T060000
END:STANDARD
END:VTIMEZONE
BEGIN:VEVENT
DTSTART;TZID=America/New_York:20250510T100000
DTEND;TZID=America/New_York:20250510T133000
DTSTAMP:20260423T192149
CREATED:20250311T205302Z
LAST-MODIFIED:20250408T125554Z
UID:6377-1746871200-1746883800@www.lwv-rva.org
SUMMARY:LWV RMA Annual Meeting
DESCRIPTION:– Address important annual business;\n– Connect with League colleagues;\n– Celebrate 50 yr members;\n– Includes lunch and a special museum exhibit for our League \n 
URL:https://www.lwv-rva.org/event/lwv-rma-annual-meeting/
LOCATION:Virginia Museum of History and Culture\, 428 N. Arthur Ashe Blvd.\, Richmond\, VA\, 23220\, United States
CATEGORIES:LWV-RMA Annual Meeting
ORGANIZER;CN="Fran Eckenrode":MAILTO:feckenr@gmail.com
END:VEVENT
END:VCALENDAR