BEGIN:VCALENDAR
VERSION:2.0
PRODID:-//LWV-RMA - ECPv6.15.17//NONSGML v1.0//EN
CALSCALE:GREGORIAN
METHOD:PUBLISH
X-WR-CALNAME:LWV-RMA
X-ORIGINAL-URL:https://www.lwv-rva.org
X-WR-CALDESC:Events for LWV-RMA
REFRESH-INTERVAL;VALUE=DURATION:PT1H
X-Robots-Tag:noindex
X-PUBLISHED-TTL:PT1H
BEGIN:VTIMEZONE
TZID:America/New_York
BEGIN:DAYLIGHT
TZOFFSETFROM:-0500
TZOFFSETTO:-0400
TZNAME:EDT
DTSTART:20230312T070000
END:DAYLIGHT
BEGIN:STANDARD
TZOFFSETFROM:-0400
TZOFFSETTO:-0500
TZNAME:EST
DTSTART:20231105T060000
END:STANDARD
BEGIN:DAYLIGHT
TZOFFSETFROM:-0500
TZOFFSETTO:-0400
TZNAME:EDT
DTSTART:20240310T070000
END:DAYLIGHT
BEGIN:STANDARD
TZOFFSETFROM:-0400
TZOFFSETTO:-0500
TZNAME:EST
DTSTART:20241103T060000
END:STANDARD
BEGIN:DAYLIGHT
TZOFFSETFROM:-0500
TZOFFSETTO:-0400
TZNAME:EDT
DTSTART:20250309T070000
END:DAYLIGHT
BEGIN:STANDARD
TZOFFSETFROM:-0400
TZOFFSETTO:-0500
TZNAME:EST
DTSTART:20251102T060000
END:STANDARD
END:VTIMEZONE
BEGIN:VEVENT
DTSTART;TZID=America/New_York:20240504T100000
DTEND;TZID=America/New_York:20240504T133000
DTSTAMP:20260423T185144
CREATED:20240414T165525Z
LAST-MODIFIED:20240414T165904Z
UID:5763-1714816800-1714829400@www.lwv-rva.org
SUMMARY:LWV RMA 2024 Annual Meeting at the Virginia Museum of History and Culture
DESCRIPTION:– Address important annual business;\n– Connect with League colleagues;\n– Celebrate 50 yr members;\n– Tour of the museum’s research library. Special access to the library’s manuscript vault is included in the tour\, which contains some of the museum’s most important collections\, and an up-close examination of original manuscripts\, including items related to the Equal Suffrage League of Virginia\, the LWV’s historical predecessor. \n– Includes lunch \n– After the meeting concludes\, attendees are invited to tour the rest of the museum’s exhibits\, including the newly opened Julia Child: A Recipe for Life. Those attendees who are VMHC members have complimentary admission. Those who are not members may purchase a ticket to tour this exhibit and the rest of the museum for the special reduced rate of $5.
URL:https://www.lwv-rva.org/event/lwv-rma-2024-annual-meeting/
LOCATION:Virginia Museum of History and Culture\, 428 N. Arthur Ashe Blvd.\, Richmond\, VA\, 23220\, United States
CATEGORIES:LWV - RMA Annual Business Meeting
ORGANIZER;CN="Evelyn Glazier":MAILTO:emglazier1@gmail.com
END:VEVENT
END:VCALENDAR