BEGIN:VCALENDAR
VERSION:2.0
PRODID:-//LWV-RMA - ECPv6.15.17//NONSGML v1.0//EN
CALSCALE:GREGORIAN
METHOD:PUBLISH
X-ORIGINAL-URL:https://www.lwv-rva.org
X-WR-CALDESC:Events for LWV-RMA
REFRESH-INTERVAL;VALUE=DURATION:PT1H
X-Robots-Tag:noindex
X-PUBLISHED-TTL:PT1H
BEGIN:VTIMEZONE
TZID:America/New_York
BEGIN:DAYLIGHT
TZOFFSETFROM:-0500
TZOFFSETTO:-0400
TZNAME:EDT
DTSTART:20230312T070000
END:DAYLIGHT
BEGIN:STANDARD
TZOFFSETFROM:-0400
TZOFFSETTO:-0500
TZNAME:EST
DTSTART:20231105T060000
END:STANDARD
BEGIN:DAYLIGHT
TZOFFSETFROM:-0500
TZOFFSETTO:-0400
TZNAME:EDT
DTSTART:20240310T070000
END:DAYLIGHT
BEGIN:STANDARD
TZOFFSETFROM:-0400
TZOFFSETTO:-0500
TZNAME:EST
DTSTART:20241103T060000
END:STANDARD
BEGIN:DAYLIGHT
TZOFFSETFROM:-0500
TZOFFSETTO:-0400
TZNAME:EDT
DTSTART:20250309T070000
END:DAYLIGHT
BEGIN:STANDARD
TZOFFSETFROM:-0400
TZOFFSETTO:-0500
TZNAME:EST
DTSTART:20251102T060000
END:STANDARD
BEGIN:DAYLIGHT
TZOFFSETFROM:-0500
TZOFFSETTO:-0400
TZNAME:EDT
DTSTART:20260308T070000
END:DAYLIGHT
BEGIN:STANDARD
TZOFFSETFROM:-0400
TZOFFSETTO:-0500
TZNAME:EST
DTSTART:20261101T060000
END:STANDARD
BEGIN:DAYLIGHT
TZOFFSETFROM:-0500
TZOFFSETTO:-0400
TZNAME:EDT
DTSTART:20270314T070000
END:DAYLIGHT
BEGIN:STANDARD
TZOFFSETFROM:-0400
TZOFFSETTO:-0500
TZNAME:EST
DTSTART:20271107T060000
END:STANDARD
END:VTIMEZONE
BEGIN:VEVENT
DTSTART;TZID=America/New_York:20260122T183000
DTEND;TZID=America/New_York:20260122T193000
DTSTAMP:20260423T174845
CREATED:20260104T233839Z
LAST-MODIFIED:20260104T233839Z
UID:6811-1769106600-1769110200@www.lwv-rva.org
SUMMARY:Tyee Davenport Mallory:  VLBC Legislative Agenda for African-Americans and other marginalized groups
DESCRIPTION:Tyee Davenport Mallory\, Executive Director Virginia Legislative Black Caucus\, will discuss the VLBC Legislative Agenda for African-Americans and other marginalized groups. Join this presentation and strengthen your understanding of the policy priorities of Black legislators.
URL:https://www.lwv-rva.org/event/tyee-davenport-mallory-vlbc-legislative-agenda-for-african-americans-and-other-marginalized-groups/
LOCATION:Zoom
CATEGORIES:Legislative Priorities
ORGANIZER;CN="Roxanne Rucker":MAILTO:ryrucker@outlook.com
END:VEVENT
BEGIN:VEVENT
DTSTART;TZID=America/New_York:20260112T180000
DTEND;TZID=America/New_York:20260112T200000
DTSTAMP:20260423T174845
CREATED:20251229T194654Z
LAST-MODIFIED:20251229T194654Z
UID:6807-1768240800-1768248000@www.lwv-rva.org
SUMMARY:Get the Knowledge to Impact Education
DESCRIPTION:Get the Knowledge to Impact Education – Regional Conversation on Virginia’s 2026 Legislative and Public Education Landscape
URL:https://www.lwv-rva.org/event/get-the-knowledge-to-impact-education/
LOCATION:Zoom
CATEGORIES:Education,Legislative Priorities,School Funding
ORGANIZER;CN="Anna Mason":MAILTO:amason.darby@gmail.com
END:VEVENT
BEGIN:VEVENT
DTSTART;TZID=America/New_York:20250212T083000
DTEND;TZID=America/New_York:20250212T093000
DTSTAMP:20260423T174845
CREATED:20250131T223418Z
LAST-MODIFIED:20250131T223418Z
UID:6312-1739349000-1739352600@www.lwv-rva.org
SUMMARY:Womens Legislative Roundtable (WLRT)
DESCRIPTION:WLRT at the General Assembly Building\, 201 North 9th Street\, 7th Floor\, North Meeting Room  700-B
URL:https://www.lwv-rva.org/event/womens-legislative-roundtable-wlrt/
LOCATION:General Assembly Building\, 201 North 9th Street\, Richmond\, Virginia
CATEGORIES:Legislative Priorities,Womens Legislative Roundtable (WLRT)
END:VEVENT
BEGIN:VEVENT
DTSTART;TZID=America/New_York:20241211T190000
DTEND;TZID=America/New_York:20241211T203000
DTSTAMP:20260423T174845
CREATED:20241112T211959Z
LAST-MODIFIED:20241203T141608Z
UID:6102-1733943600-1733949000@www.lwv-rva.org
SUMMARY:Talk Together to Impact Education- Advocacy Voices of our School Districts.  A virtual event from the LWV RMA Education Committee
DESCRIPTION:LWV RMA Education Committee is bringing together the Advocacy Voices of our School Districts to hear what they are seeing on the horizon for the upcoming VA state legislative session.\nShawn Smith- Chesterfield Co Public Schools\nKen Blackstone- Henrico County Public Schools\nMatthew Stanley- Richmond Public Schools\nRegister here
URL:https://www.lwv-rva.org/event/talk-together-to-impact-education-advocacy-voices-of-our-school-districts-a-virtual-event-from-the-lwv-rma-education-committee/
LOCATION:Zoom
CATEGORIES:Advocacy Planning,Education,Legislative Priorities,School Funding
ATTACH;FMTTYPE=application/pdf:https://www.lwv-rva.org/wp-content/uploads/2024/11/Education-Advocacy-Conversation-2024-1.pdf
ORGANIZER;CN="Anna Mason":MAILTO:amason.darby@gmail.com
END:VEVENT
END:VCALENDAR