BEGIN:VCALENDAR
VERSION:2.0
PRODID:-//LWV-RMA - ECPv6.15.17//NONSGML v1.0//EN
CALSCALE:GREGORIAN
METHOD:PUBLISH
X-ORIGINAL-URL:https://www.lwv-rva.org
X-WR-CALDESC:Events for LWV-RMA
REFRESH-INTERVAL;VALUE=DURATION:PT1H
X-Robots-Tag:noindex
X-PUBLISHED-TTL:PT1H
BEGIN:VTIMEZONE
TZID:America/New_York
BEGIN:DAYLIGHT
TZOFFSETFROM:-0500
TZOFFSETTO:-0400
TZNAME:EDT
DTSTART:20230312T070000
END:DAYLIGHT
BEGIN:STANDARD
TZOFFSETFROM:-0400
TZOFFSETTO:-0500
TZNAME:EST
DTSTART:20231105T060000
END:STANDARD
BEGIN:DAYLIGHT
TZOFFSETFROM:-0500
TZOFFSETTO:-0400
TZNAME:EDT
DTSTART:20240310T070000
END:DAYLIGHT
BEGIN:STANDARD
TZOFFSETFROM:-0400
TZOFFSETTO:-0500
TZNAME:EST
DTSTART:20241103T060000
END:STANDARD
BEGIN:DAYLIGHT
TZOFFSETFROM:-0500
TZOFFSETTO:-0400
TZNAME:EDT
DTSTART:20250309T070000
END:DAYLIGHT
BEGIN:STANDARD
TZOFFSETFROM:-0400
TZOFFSETTO:-0500
TZNAME:EST
DTSTART:20251102T060000
END:STANDARD
BEGIN:DAYLIGHT
TZOFFSETFROM:-0500
TZOFFSETTO:-0400
TZNAME:EDT
DTSTART:20260308T070000
END:DAYLIGHT
BEGIN:STANDARD
TZOFFSETFROM:-0400
TZOFFSETTO:-0500
TZNAME:EST
DTSTART:20261101T060000
END:STANDARD
END:VTIMEZONE
BEGIN:VEVENT
DTSTART;TZID=America/New_York:20250623T133000
DTEND;TZID=America/New_York:20250623T143000
DTSTAMP:20260423T232519
CREATED:20250104T003023Z
LAST-MODIFIED:20250104T003023Z
UID:6248-1750685400-1750689000@www.lwv-rva.org
SUMMARY:LWV RMA Electoral Board Observation Committee Meeting
DESCRIPTION:LWV RMA Electoral Board Observation Committee Meeting
URL:https://www.lwv-rva.org/event/lwv-rma-electoral-board-observation-committee-meeting-15/
LOCATION:Zoom
CATEGORIES:Committee Meeting,Electoral Boards
ORGANIZER;CN="Mary Grace Boyle":MAILTO:boylemary55@gmail.com
END:VEVENT
BEGIN:VEVENT
DTSTART;TZID=America/New_York:20250526T133000
DTEND;TZID=America/New_York:20250526T143000
DTSTAMP:20260423T232519
CREATED:20250104T001939Z
LAST-MODIFIED:20250104T002823Z
UID:6246-1748266200-1748269800@www.lwv-rva.org
SUMMARY:LWV RMA Electoral Board Observation Committee Meeting
DESCRIPTION:LWV RMA Electoral Board Observation Committee Meeting
URL:https://www.lwv-rva.org/event/lwv-rma-electoral-board-observation-committee-meeting-14/
LOCATION:Zoom
CATEGORIES:Committee Meeting,Electoral Boards
ORGANIZER;CN="Mary Grace Boyle":MAILTO:boylemary55@gmail.com
END:VEVENT
BEGIN:VEVENT
DTSTART;TZID=America/New_York:20250428T133000
DTEND;TZID=America/New_York:20250428T143000
DTSTAMP:20260423T232519
CREATED:20250104T001752Z
LAST-MODIFIED:20250104T001752Z
UID:6244-1745847000-1745850600@www.lwv-rva.org
SUMMARY:LWV RMA Electoral Board Observation Committee Meeting
DESCRIPTION:LWV RMA Electoral Board Observation Committee Meeting
URL:https://www.lwv-rva.org/event/lwv-rma-electoral-board-observation-committee-meeting-13/
LOCATION:Zoom
CATEGORIES:Committee Meeting,Electoral Boards
ORGANIZER;CN="Mary Grace Boyle":MAILTO:boylemary55@gmail.com
END:VEVENT
BEGIN:VEVENT
DTSTART;TZID=America/New_York:20250324T133000
DTEND;TZID=America/New_York:20250324T143000
DTSTAMP:20260423T232519
CREATED:20250104T001549Z
LAST-MODIFIED:20250104T001549Z
UID:6242-1742823000-1742826600@www.lwv-rva.org
SUMMARY:LWV RMA Electoral Board Observation Committee Meeting
DESCRIPTION:LWV RMA Electoral Board Observation Committee Meeting
URL:https://www.lwv-rva.org/event/lwv-rma-electoral-board-observation-committee-meeting-12/
LOCATION:Zoom
CATEGORIES:Committee Meeting,Electoral Boards
ORGANIZER;CN="Mary Grace Boyle":MAILTO:boylemary55@gmail.com
END:VEVENT
BEGIN:VEVENT
DTSTART;TZID=America/New_York:20250224T133000
DTEND;TZID=America/New_York:20250224T143000
DTSTAMP:20260423T232519
CREATED:20250104T001114Z
LAST-MODIFIED:20250104T201254Z
UID:6240-1740403800-1740407400@www.lwv-rva.org
SUMMARY:LWV RMA Electoral Board Observation Committee Meeting
DESCRIPTION:LWV RMA Electoral Board Observation Committee Meeting
URL:https://www.lwv-rva.org/event/lwv-rma-electoral-board-observation-committee-meeting-11/
LOCATION:Zoom
CATEGORIES:Committee Meeting,Electoral Boards
ORGANIZER;CN="Mary Grace Boyle":MAILTO:boylemary55@gmail.com
END:VEVENT
BEGIN:VEVENT
DTSTART;TZID=America/New_York:20250127T133000
DTEND;TZID=America/New_York:20250127T143000
DTSTAMP:20260423T232519
CREATED:20250104T000843Z
LAST-MODIFIED:20250104T000933Z
UID:6238-1737984600-1737988200@www.lwv-rva.org
SUMMARY:LWV RMA Electoral Board Observation Committee Meeting
DESCRIPTION:LWV RMA Electoral Board Observation Committee Meeting
URL:https://www.lwv-rva.org/event/lwv-rma-electoral-board-observation-committee-meeting-10/
LOCATION:Zoom
CATEGORIES:Committee Meeting,Electoral Boards
ORGANIZER;CN="Mary Grace Boyle":MAILTO:boylemary55@gmail.com
END:VEVENT
BEGIN:VEVENT
DTSTART;TZID=America/New_York:20241223T133000
DTEND;TZID=America/New_York:20241223T143000
DTSTAMP:20260423T232519
CREATED:20241005T204129Z
LAST-MODIFIED:20241215T190326Z
UID:6040-1734960600-1734964200@www.lwv-rva.org
SUMMARY:LWV RMA Electoral Board Observation Committee Meeting-Cancelled
DESCRIPTION:LWV RMA Electoral Board Observation Committee Meeting
URL:https://www.lwv-rva.org/event/lwv-rma-electoral-board-observation-committee-meeting-9/
LOCATION:Zoom
CATEGORIES:Committee Meeting,Electoral Boards
ORGANIZER;CN="Mary Grace Boyle":MAILTO:boylemary55@gmail.com
END:VEVENT
BEGIN:VEVENT
DTSTART;TZID=America/New_York:20241125T133000
DTEND;TZID=America/New_York:20241125T143000
DTSTAMP:20260423T232519
CREATED:20241005T203951Z
LAST-MODIFIED:20241005T203951Z
UID:6036-1732541400-1732545000@www.lwv-rva.org
SUMMARY:LWV RMA Electoral Board Observation Committee Meeting
DESCRIPTION:LWV RMA Electoral Board Observation Committee Meeting
URL:https://www.lwv-rva.org/event/lwv-rma-electoral-board-observation-committee-meeting-8/
LOCATION:Zoom
CATEGORIES:Committee Meeting,Electoral Boards
ORGANIZER;CN="Mary Grace Boyle":MAILTO:boylemary55@gmail.com
END:VEVENT
BEGIN:VEVENT
DTSTART;TZID=America/New_York:20241028T133000
DTEND;TZID=America/New_York:20241028T143000
DTSTAMP:20260423T232519
CREATED:20241005T203918Z
LAST-MODIFIED:20241005T203918Z
UID:6034-1730122200-1730125800@www.lwv-rva.org
SUMMARY:LWV RMA Electoral Board Observation Committee Meeting
DESCRIPTION:LWV RMA Electoral Board Observation Committee Meeting
URL:https://www.lwv-rva.org/event/lwv-rma-electoral-board-observation-committee-meeting-7/
LOCATION:Zoom
CATEGORIES:Committee Meeting,Electoral Boards
ORGANIZER;CN="Mary Grace Boyle":MAILTO:boylemary55@gmail.com
END:VEVENT
BEGIN:VEVENT
DTSTART;TZID=America/New_York:20240923T133000
DTEND;TZID=America/New_York:20240923T143000
DTSTAMP:20260423T232519
CREATED:20240629T003005Z
LAST-MODIFIED:20240629T003005Z
UID:5867-1727098200-1727101800@www.lwv-rva.org
SUMMARY:LWV RMA Electoral Board Observation Committee Meeting
DESCRIPTION:LWV RMA Electoral Board Observation Committee Meeting
URL:https://www.lwv-rva.org/event/lwv-rma-electoral-board-observation-committee-meeting-6/
LOCATION:Zoom
CATEGORIES:Committee Meeting,Electoral Boards
ORGANIZER;CN="Mary Grace Boyle":MAILTO:boylemary55@gmail.com
END:VEVENT
BEGIN:VEVENT
DTSTART;TZID=America/New_York:20240826T133000
DTEND;TZID=America/New_York:20240826T143000
DTSTAMP:20260423T232519
CREATED:20240629T002832Z
LAST-MODIFIED:20240629T002832Z
UID:5865-1724679000-1724682600@www.lwv-rva.org
SUMMARY:LWV RMA Electoral Board Observation Committee Meeting
DESCRIPTION:LWV RMA Electoral Board Observation Committee Meeting
URL:https://www.lwv-rva.org/event/lwv-rma-electoral-board-observation-committee-meeting-5/
LOCATION:Zoom
CATEGORIES:Committee Meeting,Electoral Boards
ORGANIZER;CN="Mary Grace Boyle":MAILTO:boylemary55@gmail.com
END:VEVENT
BEGIN:VEVENT
DTSTART;TZID=America/New_York:20240722T133000
DTEND;TZID=America/New_York:20240722T143000
DTSTAMP:20260423T232519
CREATED:20240629T002657Z
LAST-MODIFIED:20240629T002657Z
UID:5863-1721655000-1721658600@www.lwv-rva.org
SUMMARY:LWV RMA Electoral Board Observation Committee Meeting
DESCRIPTION:LWV RMA Electoral Board Observation Committee Meeting
URL:https://www.lwv-rva.org/event/lwv-rma-electoral-board-observation-committee-meeting-4/
LOCATION:Zoom
CATEGORIES:Committee Meeting,Electoral Boards
ORGANIZER;CN="Mary Grace Boyle":MAILTO:boylemary55@gmail.com
END:VEVENT
BEGIN:VEVENT
DTSTART;TZID=America/New_York:20240624T133000
DTEND;TZID=America/New_York:20240624T143000
DTSTAMP:20260423T232519
CREATED:20240330T012734Z
LAST-MODIFIED:20240330T012734Z
UID:5727-1719235800-1719239400@www.lwv-rva.org
SUMMARY:LWV RMA Electoral Board Observation Committee Meeting
DESCRIPTION:LWV RMA Electoral Board Observation Committee Meeting
URL:https://www.lwv-rva.org/event/lwv-rma-electoral-board-observation-committee-meeting-3/
LOCATION:Zoom
CATEGORIES:Committee Meeting,Electoral Boards
ORGANIZER;CN="Mary Grace Boyle":MAILTO:boylemary55@gmail.com
END:VEVENT
BEGIN:VEVENT
DTSTART;TZID=America/New_York:20240527T133000
DTEND;TZID=America/New_York:20240527T143000
DTSTAMP:20260423T232519
CREATED:20240330T012555Z
LAST-MODIFIED:20240330T012555Z
UID:5725-1716816600-1716820200@www.lwv-rva.org
SUMMARY:LWV RMA Electoral Board Observation Committee Meeting
DESCRIPTION:LWV RMA Electoral Board Observation Committee Meeting
URL:https://www.lwv-rva.org/event/lwv-rma-electoral-board-observation-committee-meeting-2/
LOCATION:Zoom
CATEGORIES:Board Meeting,Electoral Boards
ORGANIZER;CN="Mary Grace Boyle":MAILTO:boylemary55@gmail.com
END:VEVENT
BEGIN:VEVENT
DTSTART;TZID=America/New_York:20240422T133000
DTEND;TZID=America/New_York:20240422T143000
DTSTAMP:20260423T232519
CREATED:20240330T012339Z
LAST-MODIFIED:20240330T012339Z
UID:5723-1713792600-1713796200@www.lwv-rva.org
SUMMARY:LWV RMA Electoral Board Observation Committee Meeting
DESCRIPTION:LWV RMA Electoral Board Observation Committee Meeting
URL:https://www.lwv-rva.org/event/lwv-rma-electoral-board-observation-committee-meeting/
LOCATION:Zoom
CATEGORIES:Committee Meeting,Electoral Boards
ORGANIZER;CN="Mary Grace Boyle":MAILTO:boylemary55@gmail.com
END:VEVENT
BEGIN:VEVENT
DTSTART;TZID=America/New_York:20240325T133000
DTEND;TZID=America/New_York:20240325T143000
DTSTAMP:20260423T232519
CREATED:20231216T190016Z
LAST-MODIFIED:20240317T161616Z
UID:5589-1711373400-1711377000@www.lwv-rva.org
SUMMARY:LWV RMA Electoral Board Observation Committee Meeting
DESCRIPTION:LWV RMA Electoral Board Observation Committee Meeting
URL:https://www.lwv-rva.org/event/lwv-rma-electoral-board-observation-team-meeting-15/
LOCATION:Zoom
CATEGORIES:Committee Meeting,Electoral Boards
ORGANIZER;CN="Mary Grace Boyle":MAILTO:boylemary55@gmail.com
END:VEVENT
BEGIN:VEVENT
DTSTART;TZID=America/New_York:20240226T133000
DTEND;TZID=America/New_York:20240226T143000
DTSTAMP:20260423T232519
CREATED:20231216T185825Z
LAST-MODIFIED:20231216T185825Z
UID:5587-1708954200-1708957800@www.lwv-rva.org
SUMMARY:LWV RMA Electoral Board Observation Team Meeting
DESCRIPTION:LWV RMA Electoral Board Observation Team Meeting
URL:https://www.lwv-rva.org/event/lwv-rma-electoral-board-observation-team-meeting-14/
LOCATION:Zoom
CATEGORIES:Committee Meeting,Electoral Boards
ORGANIZER;CN="Mary Grace Boyle":MAILTO:boylemary55@gmail.com
END:VEVENT
END:VCALENDAR