BEGIN:VCALENDAR
VERSION:2.0
PRODID:-//LWV-RMA - ECPv6.15.17//NONSGML v1.0//EN
CALSCALE:GREGORIAN
METHOD:PUBLISH
X-ORIGINAL-URL:https://www.lwv-rva.org
X-WR-CALDESC:Events for LWV-RMA
REFRESH-INTERVAL;VALUE=DURATION:PT1H
X-Robots-Tag:noindex
X-PUBLISHED-TTL:PT1H
BEGIN:VTIMEZONE
TZID:America/New_York
BEGIN:DAYLIGHT
TZOFFSETFROM:-0500
TZOFFSETTO:-0400
TZNAME:EDT
DTSTART:20230312T070000
END:DAYLIGHT
BEGIN:STANDARD
TZOFFSETFROM:-0400
TZOFFSETTO:-0500
TZNAME:EST
DTSTART:20231105T060000
END:STANDARD
BEGIN:DAYLIGHT
TZOFFSETFROM:-0500
TZOFFSETTO:-0400
TZNAME:EDT
DTSTART:20240310T070000
END:DAYLIGHT
BEGIN:STANDARD
TZOFFSETFROM:-0400
TZOFFSETTO:-0500
TZNAME:EST
DTSTART:20241103T060000
END:STANDARD
BEGIN:DAYLIGHT
TZOFFSETFROM:-0500
TZOFFSETTO:-0400
TZNAME:EDT
DTSTART:20250309T070000
END:DAYLIGHT
BEGIN:STANDARD
TZOFFSETFROM:-0400
TZOFFSETTO:-0500
TZNAME:EST
DTSTART:20251102T060000
END:STANDARD
END:VTIMEZONE
BEGIN:VEVENT
DTSTART;TZID=America/New_York:20241126T183000
DTEND;TZID=America/New_York:20241126T200000
DTSTAMP:20260425T133910
CREATED:20241005T201703Z
LAST-MODIFIED:20241005T201703Z
UID:6017-1732645800-1732651200@www.lwv-rva.org
SUMMARY:LWV RMA Education Committee Meeting
DESCRIPTION:LWV RMA Education Committee Meeting
URL:https://www.lwv-rva.org/event/lwv-rma-education-committee-meeting-15/
LOCATION:Zoom
CATEGORIES:Committee Meeting,Education
ORGANIZER;CN="Anna Mason":MAILTO:amason,darby@gmail.com
END:VEVENT
BEGIN:VEVENT
DTSTART;TZID=America/New_York:20241118T190000
DTEND;TZID=America/New_York:20241118T200000
DTSTAMP:20260425T133910
CREATED:20241103T161113Z
LAST-MODIFIED:20241109T181416Z
UID:6082-1731956400-1731960000@www.lwv-rva.org
SUMMARY:The Environmental and Cultural Impacts of Virginia Data Centers:  A Virtual Event
DESCRIPTION:The Environmental and Cultural Impacts of Virginia Data Centers: Virtual:  Register on LWV-VA Website
URL:https://www.lwv-rva.org/event/lwv-data-center-forum-a-virtual-event/
LOCATION:Zoom
CATEGORIES:Education
END:VEVENT
BEGIN:VEVENT
DTSTART;TZID=America/New_York:20241022T183000
DTEND;TZID=America/New_York:20241022T200000
DTSTAMP:20260425T133910
CREATED:20241005T201523Z
LAST-MODIFIED:20241005T201523Z
UID:6015-1729621800-1729627200@www.lwv-rva.org
SUMMARY:LWV RMA Education Committee Meeting
DESCRIPTION:LWV RMA Education Committee Meeting
URL:https://www.lwv-rva.org/event/lwv-rma-education-committee-meeting-14/
LOCATION:Zoom
CATEGORIES:Committee Meeting,Education
ORGANIZER;CN="Anna Mason":MAILTO:amason,darby@gmail.com
END:VEVENT
BEGIN:VEVENT
DTSTART;TZID=America/New_York:20240924T183000
DTEND;TZID=America/New_York:20240924T193000
DTSTAMP:20260425T133910
CREATED:20240629T001251Z
LAST-MODIFIED:20240629T001251Z
UID:5849-1727202600-1727206200@www.lwv-rva.org
SUMMARY:LWV RMA Education Committee Meeting
DESCRIPTION:LWV RMA Education Committee Meeting
URL:https://www.lwv-rva.org/event/lwv-rma-education-committee-meeting-13/
LOCATION:Zoom
CATEGORIES:Committee Meeting,Education
ORGANIZER;CN="Anna Mason":MAILTO:amason,darby@gmail.com
END:VEVENT
BEGIN:VEVENT
DTSTART;TZID=America/New_York:20240827T183000
DTEND;TZID=America/New_York:20240827T193000
DTSTAMP:20260425T133910
CREATED:20240629T001131Z
LAST-MODIFIED:20240629T001131Z
UID:5847-1724783400-1724787000@www.lwv-rva.org
SUMMARY:LWV RMA Education Committee Meeting
DESCRIPTION:LWV RMA Education Committee Meeting
URL:https://www.lwv-rva.org/event/lwv-rma-education-committee-meeting-12/
LOCATION:Zoom
CATEGORIES:Committee Meeting,Education
ORGANIZER;CN="Anna Mason":MAILTO:amason,darby@gmail.com
END:VEVENT
BEGIN:VEVENT
DTSTART;TZID=America/New_York:20240723T183000
DTEND;TZID=America/New_York:20240723T200000
DTSTAMP:20260425T133910
CREATED:20240629T001005Z
LAST-MODIFIED:20240629T001005Z
UID:5845-1721759400-1721764800@www.lwv-rva.org
SUMMARY:LWV RMA Education Committee Meeting
DESCRIPTION:LWV RMA Education Committee Meeting
URL:https://www.lwv-rva.org/event/lwv-rma-education-committee-meeting-11/
LOCATION:Zoom
CATEGORIES:Committee Meeting,Education
ORGANIZER;CN="Anna Mason":MAILTO:amason,darby@gmail.com
END:VEVENT
BEGIN:VEVENT
DTSTART;TZID=America/New_York:20240625T183000
DTEND;TZID=America/New_York:20240625T200000
DTSTAMP:20260425T133910
CREATED:20240330T014354Z
LAST-MODIFIED:20240330T014354Z
UID:5739-1719340200-1719345600@www.lwv-rva.org
SUMMARY:LWV RMA Education Committee Meeting
DESCRIPTION:LWV RMA Education Committee Meeting
URL:https://www.lwv-rva.org/event/lwv-rma-education-committee-meeting-10/
LOCATION:Zoom
CATEGORIES:Committee Meeting,Education
ORGANIZER;CN="Anna Mason":MAILTO:amason,darby@gmail.com
END:VEVENT
BEGIN:VEVENT
DTSTART;TZID=America/New_York:20240604T183000
DTEND;TZID=America/New_York:20240604T200000
DTSTAMP:20260425T133910
CREATED:20240330T014213Z
LAST-MODIFIED:20240601T190025Z
UID:5737-1717525800-1717531200@www.lwv-rva.org
SUMMARY:LWV RMA Education Committee Delayed Meeting
DESCRIPTION:LWV RMA Education Committee Delayed Meeting
URL:https://www.lwv-rva.org/event/lwv-rma-education-committee-meeting-9/
LOCATION:Zoom
CATEGORIES:Committee Meeting,Education
ORGANIZER;CN="Anna Mason":MAILTO:amason,darby@gmail.com
END:VEVENT
BEGIN:VEVENT
DTSTART;TZID=America/New_York:20240423T183000
DTEND;TZID=America/New_York:20240423T200000
DTSTAMP:20260425T133910
CREATED:20240330T014013Z
LAST-MODIFIED:20240414T160810Z
UID:5735-1713897000-1713902400@www.lwv-rva.org
SUMMARY:LWV RMA Education Committee Meeting
DESCRIPTION:LWV RMA Education Committee Meeting
URL:https://www.lwv-rva.org/event/lwv-rma-education-committee-meeting-8/
LOCATION:Zoom
CATEGORIES:Committee Meeting,Education
ORGANIZER;CN="Anna Mason":MAILTO:amason,darby@gmail.com
END:VEVENT
BEGIN:VEVENT
DTSTART;TZID=America/New_York:20240326T183000
DTEND;TZID=America/New_York:20240326T200000
DTSTAMP:20260425T133910
CREATED:20231216T195014Z
LAST-MODIFIED:20240320T140312Z
UID:5602-1711477800-1711483200@www.lwv-rva.org
SUMMARY:LWV RMA Education Committee Meeting
DESCRIPTION:LWV RMA Education Committee Meeting
URL:https://www.lwv-rva.org/event/lwv-rma-education-committee-meeting-7/
LOCATION:Zoom
CATEGORIES:Committee Meeting,Education
ORGANIZER;CN="Anna Mason":MAILTO:amason,darby@gmail.com
END:VEVENT
BEGIN:VEVENT
DTSTART;TZID=America/New_York:20240227T183000
DTEND;TZID=America/New_York:20240227T200000
DTSTAMP:20260425T133910
CREATED:20231216T194823Z
LAST-MODIFIED:20231216T194823Z
UID:5600-1709058600-1709064000@www.lwv-rva.org
SUMMARY:LWV RMA Education Committee Meeting
DESCRIPTION:LWV RMA Education Committee Meeting
URL:https://www.lwv-rva.org/event/lwv-rma-education-committee-meeting-6/
LOCATION:Zoom
CATEGORIES:Committee Meeting,Education
ORGANIZER;CN="Marianne Feeney":MAILTO:mariannefeeney@verizon.net
END:VEVENT
BEGIN:VEVENT
DTSTART;TZID=America/New_York:20240206T183000
DTEND;TZID=America/New_York:20240206T200000
DTSTAMP:20260425T133910
CREATED:20240107T203540Z
LAST-MODIFIED:20240107T203540Z
UID:5646-1707244200-1707249600@www.lwv-rva.org
SUMMARY:Public Education Advocacy Legislation Zoom with Matthew Stanley from RPS
DESCRIPTION:LWV RMA Hosts Public Education Advocacy Legislation Zoom with Matthew Stanley from RPS.
URL:https://www.lwv-rva.org/event/public-education-advocacy-legislation-zoom-with-matthew-stanley-from-rps/
LOCATION:Zoom
CATEGORIES:Education
ORGANIZER;CN="Marianne Feeney":MAILTO:mariannefeeney@verizon.net
END:VEVENT
BEGIN:VEVENT
DTSTART;TZID=America/New_York:20240123T183000
DTEND;TZID=America/New_York:20240123T200000
DTSTAMP:20260425T133910
CREATED:20231216T194414Z
LAST-MODIFIED:20231216T194414Z
UID:5598-1706034600-1706040000@www.lwv-rva.org
SUMMARY:LWV RMA Education Committee Meeting
DESCRIPTION:LWV RMA Education Committee Meeting
URL:https://www.lwv-rva.org/event/lwv-rma-education-committee-meeting-5/
LOCATION:Zoom
CATEGORIES:Committee Meeting,Education
ORGANIZER;CN="Marianne Feeney":MAILTO:mariannefeeney@verizon.net
END:VEVENT
END:VCALENDAR