BEGIN:VCALENDAR
VERSION:2.0
PRODID:-//LWV-RMA - ECPv6.15.17//NONSGML v1.0//EN
CALSCALE:GREGORIAN
METHOD:PUBLISH
X-WR-CALNAME:LWV-RMA
X-ORIGINAL-URL:https://www.lwv-rva.org
X-WR-CALDESC:Events for LWV-RMA
REFRESH-INTERVAL;VALUE=DURATION:PT1H
X-Robots-Tag:noindex
X-PUBLISHED-TTL:PT1H
BEGIN:VTIMEZONE
TZID:America/New_York
BEGIN:DAYLIGHT
TZOFFSETFROM:-0500
TZOFFSETTO:-0400
TZNAME:EDT
DTSTART:20230312T070000
END:DAYLIGHT
BEGIN:STANDARD
TZOFFSETFROM:-0400
TZOFFSETTO:-0500
TZNAME:EST
DTSTART:20231105T060000
END:STANDARD
BEGIN:DAYLIGHT
TZOFFSETFROM:-0500
TZOFFSETTO:-0400
TZNAME:EDT
DTSTART:20240310T070000
END:DAYLIGHT
BEGIN:STANDARD
TZOFFSETFROM:-0400
TZOFFSETTO:-0500
TZNAME:EST
DTSTART:20241103T060000
END:STANDARD
BEGIN:DAYLIGHT
TZOFFSETFROM:-0500
TZOFFSETTO:-0400
TZNAME:EDT
DTSTART:20250309T070000
END:DAYLIGHT
BEGIN:STANDARD
TZOFFSETFROM:-0400
TZOFFSETTO:-0500
TZNAME:EST
DTSTART:20251102T060000
END:STANDARD
BEGIN:DAYLIGHT
TZOFFSETFROM:-0500
TZOFFSETTO:-0400
TZNAME:EDT
DTSTART:20260308T070000
END:DAYLIGHT
BEGIN:STANDARD
TZOFFSETFROM:-0400
TZOFFSETTO:-0500
TZNAME:EST
DTSTART:20261101T060000
END:STANDARD
END:VTIMEZONE
BEGIN:VEVENT
DTSTART;TZID=America/New_York:20250519T170000
DTEND;TZID=America/New_York:20250519T180000
DTSTAMP:20260423T162926
CREATED:20250103T161020Z
LAST-MODIFIED:20250103T161020Z
UID:6218-1747674000-1747677600@www.lwv-rva.org
SUMMARY:LWV RMA DEI Monthly Committee Meeting
DESCRIPTION:LWV RMA DEI Monthly Committee Meeting
URL:https://www.lwv-rva.org/event/lwv-rma-dei-monthly-committee-meeting-22/
LOCATION:Zoom
CATEGORIES:Committee Meeting,Diversity Equity & Inclusion
ORGANIZER;CN="Dr. Doris Mallory Bey":MAILTO:imdmbey7@gmail.com
END:VEVENT
BEGIN:VEVENT
DTSTART;TZID=America/New_York:20250421T170000
DTEND;TZID=America/New_York:20250421T180000
DTSTAMP:20260423T162926
CREATED:20250103T160823Z
LAST-MODIFIED:20250103T161049Z
UID:6216-1745254800-1745258400@www.lwv-rva.org
SUMMARY:LWV RMA DEI Monthly Committee Meeting
DESCRIPTION:LWV RMA DEI Monthly Committee Meeting
URL:https://www.lwv-rva.org/event/lwv-rma-dei-monthly-committee-meeting-21/
LOCATION:Zoom
CATEGORIES:Committee Meeting,Diversity Equity & Inclusion
ORGANIZER;CN="Dr. Doris Mallory Bey":MAILTO:imdmbey7@gmail.com
END:VEVENT
BEGIN:VEVENT
DTSTART;TZID=America/New_York:20250222T094500
DTEND;TZID=America/New_York:20250222T110000
DTSTAMP:20260423T162926
CREATED:20250131T221410Z
LAST-MODIFIED:20250202T235108Z
UID:6323-1740217500-1740222000@www.lwv-rva.org
SUMMARY:LWV RMA Celebrates Black History Month
DESCRIPTION:LWV-RMA celebrates Black History Month with a private tour focusing on Black History and the Rosenwald Exhibit at the Virginia Museum of History and Culture \nFebruary 22 at 10 am.  Meet in the museum lobby at 9:45 am \nCost is $14 per person for the tour\, which also includes general museum admission.  Parking in the museum lot will be covered by the League. \nRSVP:  Fran Eckenrode   feckenr@gmail.com \nPay on the day of the tour.  Cash or check made to LWV-RMA.
URL:https://www.lwv-rva.org/event/lwv-rma-celebrates-black-history-month/
LOCATION:Virginia Museum of History and Culture\, 428 N. Arthur Ashe Blvd.\, Richmond\, VA\, 23220\, United States
CATEGORIES:Diversity Equity & Inclusion
ORGANIZER;CN="Fran Eckenrode":MAILTO:feckenr@gmail.com
END:VEVENT
BEGIN:VEVENT
DTSTART;TZID=America/New_York:20250217T170000
DTEND;TZID=America/New_York:20250217T180000
DTSTAMP:20260423T162926
CREATED:20250103T160543Z
LAST-MODIFIED:20250103T160543Z
UID:6212-1739811600-1739815200@www.lwv-rva.org
SUMMARY:LWV RMA DEI Monthly Committee Meeting
DESCRIPTION:LWV RMA DEI Monthly Committee Meeting
URL:https://www.lwv-rva.org/event/lwv-rma-dei-monthly-committee-meeting-19/
LOCATION:Zoom
CATEGORIES:Committee Meeting,Diversity Equity & Inclusion
ORGANIZER;CN="Dr. Doris Mallory Bey":MAILTO:imdmbey7@gmail.com
END:VEVENT
BEGIN:VEVENT
DTSTART;TZID=America/New_York:20250120T170000
DTEND;TZID=America/New_York:20250120T180000
DTSTAMP:20260423T162926
CREATED:20250103T160400Z
LAST-MODIFIED:20250103T160400Z
UID:6210-1737392400-1737396000@www.lwv-rva.org
SUMMARY:LWV RMA DEI Monthly Committee Meeting
DESCRIPTION:LWV RMA DEI Monthly Committee Meeting
URL:https://www.lwv-rva.org/event/lwv-rma-dei-monthly-committee-meeting-18/
LOCATION:Zoom
CATEGORIES:Committee Meeting,Diversity Equity & Inclusion
ORGANIZER;CN="Dr. Doris Mallory Bey":MAILTO:imdmbey7@gmail.com
END:VEVENT
BEGIN:VEVENT
DTSTART;TZID=America/New_York:20241216T170000
DTEND;TZID=America/New_York:20241216T180000
DTSTAMP:20260423T162926
CREATED:20241005T193231Z
LAST-MODIFIED:20241005T193231Z
UID:6006-1734368400-1734372000@www.lwv-rva.org
SUMMARY:LWV RMA DEI Monthly Committee Meeting
DESCRIPTION:LWV RMA DEI Monthly Committee Meeting
URL:https://www.lwv-rva.org/event/lwv-rma-dei-monthly-committee-meeting-17/
LOCATION:Zoom
CATEGORIES:Committee Meeting,Diversity Equity & Inclusion
ORGANIZER;CN="Dr. Doris Mallory Bey":MAILTO:imdmbey7@gmail.com
END:VEVENT
BEGIN:VEVENT
DTSTART;TZID=America/New_York:20241118T170000
DTEND;TZID=America/New_York:20241118T180000
DTSTAMP:20260423T162926
CREATED:20241005T192933Z
LAST-MODIFIED:20241005T193304Z
UID:6003-1731949200-1731952800@www.lwv-rva.org
SUMMARY:LWV RMA DEI Monthly Committee Meeting
DESCRIPTION:LWV RMA DEI Monthly Committee Meeting
URL:https://www.lwv-rva.org/event/lwv-rma-dei-monthly-committee-meeting-16/
LOCATION:Zoom
CATEGORIES:Committee Meeting,Diversity Equity & Inclusion
ORGANIZER;CN="Dr. Doris Mallory Bey":MAILTO:imdmbey7@gmail.com
END:VEVENT
BEGIN:VEVENT
DTSTART;TZID=America/New_York:20241021T170000
DTEND;TZID=America/New_York:20241021T180000
DTSTAMP:20260423T162926
CREATED:20241005T192725Z
LAST-MODIFIED:20241005T192725Z
UID:6001-1729530000-1729533600@www.lwv-rva.org
SUMMARY:LWV RMA DEI Monthly Committee Meeting
DESCRIPTION:LWV RMA DEI Monthly Committee Meeting
URL:https://www.lwv-rva.org/event/lwv-rma-dei-monthly-committee-meeting-15/
LOCATION:Zoom
CATEGORIES:Committee Meeting,Diversity Equity & Inclusion
ORGANIZER;CN="Dr. Doris Mallory Bey":MAILTO:imdmbey7@gmail.com
END:VEVENT
BEGIN:VEVENT
DTSTART;TZID=America/New_York:20240916T170000
DTEND;TZID=America/New_York:20240916T180000
DTSTAMP:20260423T162926
CREATED:20240628T155051Z
LAST-MODIFIED:20240628T155051Z
UID:5831-1726506000-1726509600@www.lwv-rva.org
SUMMARY:LWV RMA DEI Monthly Committee Meeting
DESCRIPTION:LWV RMA DEI Monthly Committee Meeting
URL:https://www.lwv-rva.org/event/lwv-rma-dei-monthly-committee-meeting-14/
LOCATION:Zoom
CATEGORIES:Committee Meeting,Diversity Equity & Inclusion
ORGANIZER;CN="Dr. Doris Mallory Bey":MAILTO:imdmbey7@gmail.com
END:VEVENT
BEGIN:VEVENT
DTSTART;TZID=America/New_York:20240819T170000
DTEND;TZID=America/New_York:20240819T180000
DTSTAMP:20260423T162926
CREATED:20240628T154904Z
LAST-MODIFIED:20240628T154904Z
UID:5829-1724086800-1724090400@www.lwv-rva.org
SUMMARY:LWV RMA DEI Monthly Committee Meeting
DESCRIPTION:LWV RMA DEI Monthly Committee Meeting
URL:https://www.lwv-rva.org/event/lwv-rma-dei-monthly-committee-meeting-13/
LOCATION:Zoom
CATEGORIES:Committee Meeting,Diversity Equity & Inclusion
ORGANIZER;CN="Dr. Doris Mallory Bey":MAILTO:imdmbey7@gmail.com
END:VEVENT
BEGIN:VEVENT
DTSTART;TZID=America/New_York:20240715T170000
DTEND;TZID=America/New_York:20240715T180000
DTSTAMP:20260423T162926
CREATED:20240628T154718Z
LAST-MODIFIED:20240628T154718Z
UID:5827-1721062800-1721066400@www.lwv-rva.org
SUMMARY:LWV RMA DEI Monthly Committee Meeting
DESCRIPTION:LWV RMA DEI Monthly Committee Meeting
URL:https://www.lwv-rva.org/event/lwv-rma-dei-monthly-committee-meeting-12/
LOCATION:Zoom
CATEGORIES:Committee Meeting,Diversity Equity & Inclusion
ORGANIZER;CN="Dr. Doris Mallory Bey":MAILTO:imdmbey7@gmail.com
END:VEVENT
BEGIN:VEVENT
DTSTART;TZID=America/New_York:20240617T170000
DTEND;TZID=America/New_York:20240617T180000
DTSTAMP:20260423T162926
CREATED:20240329T202430Z
LAST-MODIFIED:20240329T202518Z
UID:5706-1718643600-1718647200@www.lwv-rva.org
SUMMARY:LWV RMA DEI Monthly Committee Meeting
DESCRIPTION:LWV RMA DEI Monthly Committee Meeting
URL:https://www.lwv-rva.org/event/lwv-rma-dei-monthly-committee-meeting-11/
LOCATION:Zoom
CATEGORIES:Committee Meeting,Diversity Equity & Inclusion
ORGANIZER;CN="Dr. Doris Mallory Bey":MAILTO:imdmbey7@gmail.com
END:VEVENT
BEGIN:VEVENT
DTSTART;TZID=America/New_York:20240520T170000
DTEND;TZID=America/New_York:20240520T180000
DTSTAMP:20260423T162926
CREATED:20240329T202159Z
LAST-MODIFIED:20240329T202159Z
UID:5704-1716224400-1716228000@www.lwv-rva.org
SUMMARY:LWV RMA DEI Monthly Committee Meeting
DESCRIPTION:LWV RMA DEI Monthly Committee Meeting
URL:https://www.lwv-rva.org/event/lwv-rma-dei-monthly-committee-meeting-10/
LOCATION:Zoom
CATEGORIES:Committee Meeting,Diversity Equity & Inclusion
ORGANIZER;CN="Dr. Doris Mallory Bey":MAILTO:imdmbey7@gmail.com
END:VEVENT
BEGIN:VEVENT
DTSTART;TZID=America/New_York:20240415T170000
DTEND;TZID=America/New_York:20240415T180000
DTSTAMP:20260423T162926
CREATED:20240329T201944Z
LAST-MODIFIED:20240329T201944Z
UID:5702-1713200400-1713204000@www.lwv-rva.org
SUMMARY:LWV RMA DEI Monthly Committee Meeting
DESCRIPTION:LWV RMA DEI Monthly Committee Meeting
URL:https://www.lwv-rva.org/event/lwv-rma-dei-monthly-committee-meeting-9/
LOCATION:Zoom
CATEGORIES:Diversity Equity & Inclusion
ORGANIZER;CN="Dr. Doris Mallory Bey":MAILTO:imdmbey7@gmail.com
END:VEVENT
BEGIN:VEVENT
DTSTART;TZID=America/New_York:20240318T170000
DTEND;TZID=America/New_York:20240318T180000
DTSTAMP:20260423T162926
CREATED:20231216T183405Z
LAST-MODIFIED:20240317T160946Z
UID:5571-1710781200-1710784800@www.lwv-rva.org
SUMMARY:LWV RMA DEI Monthly Committee Meeting
DESCRIPTION:LWV RMA DEI Monthly Committee Meeting
URL:https://www.lwv-rva.org/event/lwv-rma-dei-monthly-committee-meeting-8/
LOCATION:Zoom
CATEGORIES:Committee Meeting,Diversity Equity & Inclusion
ORGANIZER;CN="Dr. Doris Mallory Bey":MAILTO:imdmbey7@gmail.com
END:VEVENT
BEGIN:VEVENT
DTSTART;TZID=America/New_York:20240219T180000
DTEND;TZID=America/New_York:20240219T190000
DTSTAMP:20260423T162926
CREATED:20231216T183129Z
LAST-MODIFIED:20231216T183153Z
UID:5569-1708365600-1708369200@www.lwv-rva.org
SUMMARY:LWV RMA DEI Monthly Committee Meeting
DESCRIPTION:LWV RMA DEI Monthly Committee Meeting
URL:https://www.lwv-rva.org/event/lwv-rma-dei-monthly-committee-meeting-7/
LOCATION:Zoom
CATEGORIES:Committee Meeting,Diversity Equity & Inclusion
ORGANIZER;CN="Dr. Doris Mallory Bey":MAILTO:imdmbey7@gmail.com
END:VEVENT
END:VCALENDAR