BEGIN:VCALENDAR
VERSION:2.0
PRODID:-//LWV-RMA - ECPv6.15.17//NONSGML v1.0//EN
CALSCALE:GREGORIAN
METHOD:PUBLISH
X-WR-CALNAME:LWV-RMA
X-ORIGINAL-URL:https://www.lwv-rva.org
X-WR-CALDESC:Events for LWV-RMA
REFRESH-INTERVAL;VALUE=DURATION:PT1H
X-Robots-Tag:noindex
X-PUBLISHED-TTL:PT1H
BEGIN:VTIMEZONE
TZID:America/New_York
BEGIN:DAYLIGHT
TZOFFSETFROM:-0500
TZOFFSETTO:-0400
TZNAME:EDT
DTSTART:20230312T070000
END:DAYLIGHT
BEGIN:STANDARD
TZOFFSETFROM:-0400
TZOFFSETTO:-0500
TZNAME:EST
DTSTART:20231105T060000
END:STANDARD
BEGIN:DAYLIGHT
TZOFFSETFROM:-0500
TZOFFSETTO:-0400
TZNAME:EDT
DTSTART:20240310T070000
END:DAYLIGHT
BEGIN:STANDARD
TZOFFSETFROM:-0400
TZOFFSETTO:-0500
TZNAME:EST
DTSTART:20241103T060000
END:STANDARD
BEGIN:DAYLIGHT
TZOFFSETFROM:-0500
TZOFFSETTO:-0400
TZNAME:EDT
DTSTART:20250309T070000
END:DAYLIGHT
BEGIN:STANDARD
TZOFFSETFROM:-0400
TZOFFSETTO:-0500
TZNAME:EST
DTSTART:20251102T060000
END:STANDARD
BEGIN:DAYLIGHT
TZOFFSETFROM:-0500
TZOFFSETTO:-0400
TZNAME:EDT
DTSTART:20260308T070000
END:DAYLIGHT
BEGIN:STANDARD
TZOFFSETFROM:-0400
TZOFFSETTO:-0500
TZNAME:EST
DTSTART:20261101T060000
END:STANDARD
END:VTIMEZONE
BEGIN:VEVENT
DTSTART;TZID=America/New_York:20250212T173000
DTEND;TZID=America/New_York:20250212T183000
DTSTAMP:20260423T145531
CREATED:20250103T025410Z
LAST-MODIFIED:20250131T223519Z
UID:6183-1739381400-1739385000@www.lwv-rva.org
SUMMARY:LWV RMA Communications Committee Meeting
DESCRIPTION:LWV RMA Communications Committee Meeting
URL:https://www.lwv-rva.org/event/lwv-rma-communications-committee-meeting-35/
LOCATION:Zoom
CATEGORIES:Committee Meeting,Communications
ORGANIZER;CN="Kelly Coleman":MAILTO:hellokellycoleman@gmail.com
END:VEVENT
BEGIN:VEVENT
DTSTART;TZID=America/New_York:20250108T173000
DTEND;TZID=America/New_York:20250108T183000
DTSTAMP:20260423T145531
CREATED:20250103T025206Z
LAST-MODIFIED:20250103T025206Z
UID:6181-1736357400-1736361000@www.lwv-rva.org
SUMMARY:LWV RMA Communications Committee Meeting
DESCRIPTION:LWV RMA Communications Committee Meeting
URL:https://www.lwv-rva.org/event/lwv-rma-communications-committee-meeting-34/
LOCATION:Zoom
CATEGORIES:Committee Meeting,Communications
ORGANIZER;CN="Kelly Coleman":MAILTO:hellokellycoleman@gmail.com
END:VEVENT
BEGIN:VEVENT
DTSTART;TZID=America/New_York:20241211T173000
DTEND;TZID=America/New_York:20241211T183000
DTSTAMP:20260423T145531
CREATED:20241005T191632Z
LAST-MODIFIED:20241005T191632Z
UID:5993-1733938200-1733941800@www.lwv-rva.org
SUMMARY:LWV RMA Communications Committee Meeting
DESCRIPTION:LWV RMA Communications Committee Meeting
URL:https://www.lwv-rva.org/event/lwv-rma-communications-committee-meeting-33/
LOCATION:Zoom
CATEGORIES:Communications
ORGANIZER;CN="Kelly Coleman":MAILTO:hellokellycoleman@gmail.com
END:VEVENT
BEGIN:VEVENT
DTSTART;TZID=America/New_York:20241113T173000
DTEND;TZID=America/New_York:20241113T183000
DTSTAMP:20260423T145531
CREATED:20241005T191450Z
LAST-MODIFIED:20241103T164244Z
UID:5991-1731519000-1731522600@www.lwv-rva.org
SUMMARY:Cancelled!  LWV RMA Communications Committee Meeting
DESCRIPTION:Cancelled!  LWV RMA Communications Committee Meeting
URL:https://www.lwv-rva.org/event/lwv-rma-communications-committee-meeting-32/
LOCATION:Zoom
CATEGORIES:Communications
ORGANIZER;CN="Kelly Coleman":MAILTO:hellokellycoleman@gmail.com
END:VEVENT
BEGIN:VEVENT
DTSTART;TZID=America/New_York:20240911T173000
DTEND;TZID=America/New_York:20240911T183000
DTSTAMP:20260423T145531
CREATED:20240628T154326Z
LAST-MODIFIED:20240628T154326Z
UID:5825-1726075800-1726079400@www.lwv-rva.org
SUMMARY:LWV RMA Communications Committee Meeting
DESCRIPTION:LWV RMA Communications Committee Meeting
URL:https://www.lwv-rva.org/event/lwv-rma-communications-committee-meeting-31/
LOCATION:Zoom
CATEGORIES:Committee Meeting,Communications
ORGANIZER;CN="Kelly Coleman":MAILTO:hellokellycoleman@gmail.com
END:VEVENT
BEGIN:VEVENT
DTSTART;TZID=America/New_York:20240814T173000
DTEND;TZID=America/New_York:20240814T183000
DTSTAMP:20260423T145531
CREATED:20240628T154008Z
LAST-MODIFIED:20240628T154008Z
UID:5821-1723656600-1723660200@www.lwv-rva.org
SUMMARY:LWV RMA Communications Committee Meeting
DESCRIPTION:LWV RMA Communications Committee Meeting
URL:https://www.lwv-rva.org/event/lwv-rma-communications-committee-meeting-29/
LOCATION:Zoom
CATEGORIES:Committee Meeting,Communications
ORGANIZER;CN="Kelly Coleman":MAILTO:hellokellycoleman@gmail.com
END:VEVENT
BEGIN:VEVENT
DTSTART;TZID=America/New_York:20240710T173000
DTEND;TZID=America/New_York:20240710T183000
DTSTAMP:20260423T145531
CREATED:20240628T153706Z
LAST-MODIFIED:20240628T153706Z
UID:5819-1720632600-1720636200@www.lwv-rva.org
SUMMARY:LWV RMA Communications Committee Meeting
DESCRIPTION:LWV RMA Communications Committee Meeting
URL:https://www.lwv-rva.org/event/lwv-rma-communications-committee-meeting-28/
LOCATION:Zoom
CATEGORIES:Committee Meeting,Communications
ORGANIZER;CN="Kelly Coleman":MAILTO:hellokellycoleman@gmail.com
END:VEVENT
BEGIN:VEVENT
DTSTART;TZID=America/New_York:20240612T173000
DTEND;TZID=America/New_York:20240612T183000
DTSTAMP:20260423T145531
CREATED:20240329T160631Z
LAST-MODIFIED:20240329T160755Z
UID:5699-1718213400-1718217000@www.lwv-rva.org
SUMMARY:LWV RMA Communications Committee Meeting
DESCRIPTION:LWV RMA Communications Committee Meeting
URL:https://www.lwv-rva.org/event/lwv-rma-communications-committee-meeting-27/
LOCATION:Zoom
CATEGORIES:Committee Meeting,Communications
ORGANIZER;CN="Kelly Coleman":MAILTO:hellokellycoleman@gmail.com
END:VEVENT
BEGIN:VEVENT
DTSTART;TZID=America/New_York:20240508T173000
DTEND;TZID=America/New_York:20240508T183000
DTSTAMP:20260423T145531
CREATED:20240329T160451Z
LAST-MODIFIED:20240329T160451Z
UID:5697-1715189400-1715193000@www.lwv-rva.org
SUMMARY:LWV RMA Communications Committee Meeting
DESCRIPTION:LWV RMA Communications Committee Meeting
URL:https://www.lwv-rva.org/event/lwv-rma-communications-committee-meeting-26/
LOCATION:Zoom
CATEGORIES:Committee Meeting,Communications
ORGANIZER;CN="Kelly Coleman":MAILTO:hellokellycoleman@gmail.com
END:VEVENT
BEGIN:VEVENT
DTSTART;TZID=America/New_York:20240410T173000
DTEND;TZID=America/New_York:20240410T183000
DTSTAMP:20260423T145531
CREATED:20240329T160103Z
LAST-MODIFIED:20240329T160103Z
UID:5695-1712770200-1712773800@www.lwv-rva.org
SUMMARY:LWV RMA Communications Committee Meeting
DESCRIPTION:LWV RMA Communications Committee Meeting
URL:https://www.lwv-rva.org/event/lwv-rma-communications-committee-meeting-25/
LOCATION:Zoom
CATEGORIES:Committee Meeting,Communications
ORGANIZER;CN="Kelly Coleman":MAILTO:hellokellycoleman@gmail.com
END:VEVENT
BEGIN:VEVENT
DTSTART;TZID=America/New_York:20240313T173000
DTEND;TZID=America/New_York:20240313T183000
DTSTAMP:20260423T145531
CREATED:20231216T182700Z
LAST-MODIFIED:20231216T182700Z
UID:5565-1710351000-1710354600@www.lwv-rva.org
SUMMARY:LWV RMA Communications Committee Meeting
DESCRIPTION:LWV RMA Communications Committee Meeting
URL:https://www.lwv-rva.org/event/lwv-rma-communications-committee-meeting-24/
LOCATION:Zoom
CATEGORIES:Committee Meeting,Communications
ORGANIZER;CN="Kelly Coleman":MAILTO:hellokellycoleman@gmail.com
END:VEVENT
BEGIN:VEVENT
DTSTART;TZID=America/New_York:20240214T173000
DTEND;TZID=America/New_York:20240214T183000
DTSTAMP:20260423T145531
CREATED:20231216T182445Z
LAST-MODIFIED:20231216T182445Z
UID:5563-1707931800-1707935400@www.lwv-rva.org
SUMMARY:LWV RMA Communications Committee Meeting
DESCRIPTION:LWV RMA Communications Committee Meeting
URL:https://www.lwv-rva.org/event/lwv-rma-communications-committee-meeting-23/
LOCATION:Zoom
CATEGORIES:Committee Meeting,Communications
ORGANIZER;CN="Kelly Coleman":MAILTO:hellokellycoleman@gmail.com
END:VEVENT
END:VCALENDAR