BEGIN:VCALENDAR
VERSION:2.0
PRODID:-//LWV-RMA - ECPv6.15.17//NONSGML v1.0//EN
CALSCALE:GREGORIAN
METHOD:PUBLISH
X-ORIGINAL-URL:https://www.lwv-rva.org
X-WR-CALDESC:Events for LWV-RMA
REFRESH-INTERVAL;VALUE=DURATION:PT1H
X-Robots-Tag:noindex
X-PUBLISHED-TTL:PT1H
BEGIN:VTIMEZONE
TZID:America/New_York
BEGIN:DAYLIGHT
TZOFFSETFROM:-0500
TZOFFSETTO:-0400
TZNAME:EDT
DTSTART:20240310T070000
END:DAYLIGHT
BEGIN:STANDARD
TZOFFSETFROM:-0400
TZOFFSETTO:-0500
TZNAME:EST
DTSTART:20241103T060000
END:STANDARD
BEGIN:DAYLIGHT
TZOFFSETFROM:-0500
TZOFFSETTO:-0400
TZNAME:EDT
DTSTART:20250309T070000
END:DAYLIGHT
BEGIN:STANDARD
TZOFFSETFROM:-0400
TZOFFSETTO:-0500
TZNAME:EST
DTSTART:20251102T060000
END:STANDARD
BEGIN:DAYLIGHT
TZOFFSETFROM:-0500
TZOFFSETTO:-0400
TZNAME:EDT
DTSTART:20260308T070000
END:DAYLIGHT
BEGIN:STANDARD
TZOFFSETFROM:-0400
TZOFFSETTO:-0500
TZNAME:EST
DTSTART:20261101T060000
END:STANDARD
END:VTIMEZONE
BEGIN:VEVENT
DTSTART;TZID=America/New_York:20251008T173000
DTEND;TZID=America/New_York:20251008T183000
DTSTAMP:20260423T180349
CREATED:20250716T141831Z
LAST-MODIFIED:20250716T141831Z
UID:6482-1759944600-1759948200@www.lwv-rva.org
SUMMARY:LWV RMA Communications Committee Meeting
DESCRIPTION:LWV RMA Communications Committee Meeting
URL:https://www.lwv-rva.org/event/lwv-rma-communications-committee-meeting-5/
LOCATION:Zoom
CATEGORIES:Committee Meeting,Communications
ORGANIZER;CN="Cara Clements":MAILTO:cclements78@gmail.com
END:VEVENT
BEGIN:VEVENT
DTSTART;TZID=America/New_York:20250910T173000
DTEND;TZID=America/New_York:20250910T173000
DTSTAMP:20260423T180349
CREATED:20250716T141620Z
LAST-MODIFIED:20250716T142144Z
UID:6480-1757525400-1757525400@www.lwv-rva.org
SUMMARY:LWV RMA Communications Committee Meeting
DESCRIPTION:LWV RMA Communications Committee Meeting
URL:https://www.lwv-rva.org/event/lwv-rma-communications-committee-meeting-4/
LOCATION:Zoom
CATEGORIES:Committee Meeting,Communications
ORGANIZER;CN="Cara Clements":MAILTO:cclements78@gmail.com
END:VEVENT
BEGIN:VEVENT
DTSTART;TZID=America/New_York:20250827T120000
DTEND;TZID=America/New_York:20250827T130000
DTSTAMP:20260423T180349
CREATED:20250724T203251Z
LAST-MODIFIED:20250724T203251Z
UID:6519-1756296000-1756299600@www.lwv-rva.org
SUMMARY:LWV RMA Affordable Housing Committee Meeting
DESCRIPTION:LWV RMA Affordable Housing Committee Meeting
URL:https://www.lwv-rva.org/event/lwv-rma-affordable-housing-committee-meeting-2/
LOCATION:Zoom
CATEGORIES:Affordable Housing,Committee Meeting
ORGANIZER;CN="Marilyn Breslow":MAILTO:marilyn.breslow@gmail.com
END:VEVENT
BEGIN:VEVENT
DTSTART;TZID=America/New_York:20250826T143000
DTEND;TZID=America/New_York:20250826T153000
DTSTAMP:20260423T180349
CREATED:20250724T202746Z
LAST-MODIFIED:20250724T203447Z
UID:6516-1756218600-1756222200@www.lwv-rva.org
SUMMARY:Cancelled LWV RMA Membership and Engagement Committee
DESCRIPTION:Cancelled LWV RMA Membership and Engagement Committee
URL:https://www.lwv-rva.org/event/cancelled-lwv-rma-memebership-and-engagement-committee/
LOCATION:Zoom
CATEGORIES:Committee Meeting
ORGANIZER;CN="Carol Stephens":MAILTO:carterstephens69@icloud.com
END:VEVENT
BEGIN:VEVENT
DTSTART;TZID=America/New_York:20250825T133000
DTEND;TZID=America/New_York:20250825T143000
DTSTAMP:20260423T180349
CREATED:20250724T201958Z
LAST-MODIFIED:20250724T202323Z
UID:6513-1756128600-1756132200@www.lwv-rva.org
SUMMARY:LWV RMA Electoral Board Observation Committee Meeting
DESCRIPTION:LWV RMA Electoral Board Observation Committee Meeting
URL:https://www.lwv-rva.org/event/lwv-rma-electoral-board-observation-committee-meeting-17/
LOCATION:Zoom
CATEGORIES:Committee Meeting,Electoral Board Observation Committee
ORGANIZER;CN="Mary Grace Boyle":MAILTO:boylemary55@gmail.com
END:VEVENT
BEGIN:VEVENT
DTSTART;TZID=America/New_York:20250821T173000
DTEND;TZID=America/New_York:20250821T183000
DTSTAMP:20260423T180349
CREATED:20250724T200918Z
LAST-MODIFIED:20250724T201104Z
UID:6511-1755797400-1755801000@www.lwv-rva.org
SUMMARY:LWV RMA Voter Services Committee Meeting
DESCRIPTION:LWV RMA Voter Services Committee Meeting
URL:https://www.lwv-rva.org/event/lwv-rma-voter-services-committee-meeting/
LOCATION:Zoom
CATEGORIES:Committee Meeting,Voter Services
ORGANIZER;CN="Mary Crutchfield":MAILTO:marycrutchfield6@gmail.com
END:VEVENT
BEGIN:VEVENT
DTSTART;TZID=America/New_York:20250819T173000
DTEND;TZID=America/New_York:20250819T183000
DTSTAMP:20260423T180349
CREATED:20250724T184612Z
LAST-MODIFIED:20250724T184612Z
UID:6507-1755624600-1755628200@www.lwv-rva.org
SUMMARY:LWV RMA Events Planning Subcommittee
DESCRIPTION:LWV RMA Events Planning Subcommittee
URL:https://www.lwv-rva.org/event/lwv-rma-events-planning-subcommittee/
LOCATION:Zoom
CATEGORIES:Committee Meeting,Events Planning
ORGANIZER;CN="Fran Eckenrode":MAILTO:feckenr@gmail.com
END:VEVENT
BEGIN:VEVENT
DTSTART;TZID=America/New_York:20250818T170000
DTEND;TZID=America/New_York:20250818T180000
DTSTAMP:20260423T180349
CREATED:20250625T175944Z
LAST-MODIFIED:20250724T200112Z
UID:6465-1755536400-1755540000@www.lwv-rva.org
SUMMARY:LWV RMA DEI Committee
DESCRIPTION:LWV RMA DEI Committee
URL:https://www.lwv-rva.org/event/lwv-rma-dei-committee/
LOCATION:Zoom
CATEGORIES:Committee Meeting,Diversity Equity & Inclusion
ORGANIZER;CN="Dr. Doris Mallory Bey":MAILTO:imdmbey7@gmail.com
END:VEVENT
BEGIN:VEVENT
DTSTART;TZID=America/New_York:20250814T183000
DTEND;TZID=America/New_York:20250814T193000
DTSTAMP:20260423T180349
CREATED:20250625T175206Z
LAST-MODIFIED:20250724T202837Z
UID:6463-1755196200-1755199800@www.lwv-rva.org
SUMMARY:Cancelled LWV RMA Education Committee Meeting
DESCRIPTION:LWV RMA Education Committee Meeting
URL:https://www.lwv-rva.org/event/lwv-rma-education-committee-meeting/
LOCATION:Zoom
CATEGORIES:Committee Meeting,Education
ORGANIZER;CN="Anna Mason":MAILTO:amason,darby@gmail.com
END:VEVENT
BEGIN:VEVENT
DTSTART;TZID=America/New_York:20250813T173000
DTEND;TZID=America/New_York:20250813T183000
DTSTAMP:20260423T180349
CREATED:20250716T141353Z
LAST-MODIFIED:20250716T142030Z
UID:6478-1755106200-1755109800@www.lwv-rva.org
SUMMARY:LWV RMA Communications Committee Meeting
DESCRIPTION:LWV RMA Communications Committee Meeting
URL:https://www.lwv-rva.org/event/lwv-rma-communications-committee-meeting-3/
LOCATION:Zoom
CATEGORIES:Committee Meeting,Communications
ORGANIZER;CN="Cara Clements":MAILTO:cclements78@gmail.com
END:VEVENT
BEGIN:VEVENT
DTSTART;TZID=America/New_York:20250728T133000
DTEND;TZID=America/New_York:20250728T143000
DTSTAMP:20260423T180349
CREATED:20250104T003215Z
LAST-MODIFIED:20250723T170635Z
UID:6250-1753709400-1753713000@www.lwv-rva.org
SUMMARY:Cancelled LWV RMA Electoral Board Observation Committee Meeting
DESCRIPTION:LWV RMA Electoral Board Observation Committee Meeting
URL:https://www.lwv-rva.org/event/lwv-rma-electoral-board-observation-committee-meeting-16/
LOCATION:Zoom
CATEGORIES:Committee Meeting,Electoral College
ORGANIZER;CN="Mary Grace Boyle":MAILTO:boylemary55@gmail.com
END:VEVENT
BEGIN:VEVENT
DTSTART;TZID=America/New_York:20250723T120000
DTEND;TZID=America/New_York:20250723T130000
DTSTAMP:20260423T180349
CREATED:20250311T205608Z
LAST-MODIFIED:20250717T151241Z
UID:6265-1753272000-1753275600@www.lwv-rva.org
SUMMARY:Cancelled - LWV RMA Affordable Housing Committee Meeting
DESCRIPTION:LWV RMA Affordable Housing Committee Meeting
URL:https://www.lwv-rva.org/event/lwv-rma-affordable-housing-committee-meeting/
LOCATION:Zoom
CATEGORIES:Affordable Housing,Committee Meeting
ORGANIZER;CN="Marilyn Breslow":MAILTO:marilyn.breslow@gmail.com
END:VEVENT
BEGIN:VEVENT
DTSTART;TZID=America/New_York:20250722T173000
DTEND;TZID=America/New_York:20250722T183000
DTSTAMP:20260423T180349
CREATED:20250104T005916Z
LAST-MODIFIED:20250717T150151Z
UID:6279-1753205400-1753209000@www.lwv-rva.org
SUMMARY:LWV RMA Events Planning Subcommittee Meeting
DESCRIPTION:LWV RMA Events Planning Subcommittee Meeting
URL:https://www.lwv-rva.org/event/lwv-rma-events-planning-subcommittee-meeting-29/
LOCATION:Zoom
CATEGORIES:Committee Meeting,Events Planning
ORGANIZER;CN="Fran Eckenrode":MAILTO:feckenr@gmail.com
END:VEVENT
BEGIN:VEVENT
DTSTART;TZID=America/New_York:20250722T143000
DTEND;TZID=America/New_York:20250722T153000
DTSTAMP:20260423T180349
CREATED:20250103T155921Z
LAST-MODIFIED:20250103T155921Z
UID:6207-1753194600-1753198200@www.lwv-rva.org
SUMMARY:LWV RMA Membership & Engagement Committee Meeting
DESCRIPTION:LWV RMA Membership & Engagement Committee Meeting
URL:https://www.lwv-rva.org/event/lwv-rma-membership-engagement-committee-meeting-29/
LOCATION:Zoom
CATEGORIES:Committee Meeting,Membership
ORGANIZER;CN="Carol Stephens":MAILTO:carterstephens69@icloud.com
END:VEVENT
BEGIN:VEVENT
DTSTART;TZID=America/New_York:20250721T170000
DTEND;TZID=America/New_York:20250721T180000
DTSTAMP:20260423T180349
CREATED:20250103T161355Z
LAST-MODIFIED:20250103T161355Z
UID:6222-1753117200-1753120800@www.lwv-rva.org
SUMMARY:LWV RMA DEI Monthly Committee Meeting
DESCRIPTION:LWV RMA DEI Monthly Committee Meeting
URL:https://www.lwv-rva.org/event/lwv-rma-dei-monthly-committee-meeting-24/
LOCATION:Zoom
CATEGORIES:Committee Meeting,Diversity Equity & Inclusion
ORGANIZER;CN="Dr. Doris Mallory Bey":MAILTO:imdmbey7@gmail.com
END:VEVENT
BEGIN:VEVENT
DTSTART;TZID=America/New_York:20250710T183000
DTEND;TZID=America/New_York:20250710T193000
DTSTAMP:20260423T180349
CREATED:20250103T020934Z
LAST-MODIFIED:20250617T010303Z
UID:6177-1752172200-1752175800@www.lwv-rva.org
SUMMARY:Cancelled -LWV RMA Education Committee Meeting
DESCRIPTION:LWV RMA Education Committee Meeting
URL:https://www.lwv-rva.org/event/lwv-rma-education-committee-meeting-23/
LOCATION:Zoom
CATEGORIES:Committee Meeting,Education
ORGANIZER;CN="Anna Mason":MAILTO:amason,darby@gmail.com
END:VEVENT
BEGIN:VEVENT
DTSTART;TZID=America/New_York:20250626T160000
DTEND;TZID=America/New_York:20250626T170000
DTSTAMP:20260423T180349
CREATED:20250104T005732Z
LAST-MODIFIED:20250104T005732Z
UID:6277-1750953600-1750957200@www.lwv-rva.org
SUMMARY:LWV RMA Events Planning Subcommittee Meeting
DESCRIPTION:LWV RMA Events Planning Subcommittee Meeting
URL:https://www.lwv-rva.org/event/lwv-rma-events-planning-subcommittee-meeting-28/
LOCATION:Zoom
CATEGORIES:Committee Meeting,Events Planning
ORGANIZER;CN="Fran Eckenrode":MAILTO:feckenr@gmail.com
END:VEVENT
BEGIN:VEVENT
DTSTART;TZID=America/New_York:20250625T120000
DTEND;TZID=America/New_York:20250625T130000
DTSTAMP:20260423T180349
CREATED:20250104T004556Z
LAST-MODIFIED:20250625T170828Z
UID:6263-1750852800-1750856400@www.lwv-rva.org
SUMMARY:Cancelled LWV RMA Affordable Housing Committee Meeting
DESCRIPTION:LWV RMA Affordable Housing Committee Meeting
URL:https://www.lwv-rva.org/event/lwv-rma-affordable-housing-committee-meeting-29/
LOCATION:Zoom
CATEGORIES:Affordable Housing,Committee Meeting
ORGANIZER;CN="Marilyn Breslow":MAILTO:marilyn.breslow@gmail.com
END:VEVENT
BEGIN:VEVENT
DTSTART;TZID=America/New_York:20250624T143000
DTEND;TZID=America/New_York:20250624T153000
DTSTAMP:20260423T180349
CREATED:20250103T155737Z
LAST-MODIFIED:20250103T155737Z
UID:6205-1750775400-1750779000@www.lwv-rva.org
SUMMARY:LWV RMA Membership & Engagement Committee Meeting
DESCRIPTION:LWV RMA Membership & Engagement Committee Meeting
URL:https://www.lwv-rva.org/event/lwv-rma-membership-engagement-committee-meeting-28/
LOCATION:Zoom
CATEGORIES:Committee Meeting,Membership
ORGANIZER;CN="Carol Stephens":MAILTO:carterstephens69@icloud.com
END:VEVENT
BEGIN:VEVENT
DTSTART;TZID=America/New_York:20250623T133000
DTEND;TZID=America/New_York:20250623T143000
DTSTAMP:20260423T180349
CREATED:20250104T003023Z
LAST-MODIFIED:20250104T003023Z
UID:6248-1750685400-1750689000@www.lwv-rva.org
SUMMARY:LWV RMA Electoral Board Observation Committee Meeting
DESCRIPTION:LWV RMA Electoral Board Observation Committee Meeting
URL:https://www.lwv-rva.org/event/lwv-rma-electoral-board-observation-committee-meeting-15/
LOCATION:Zoom
CATEGORIES:Committee Meeting,Electoral Boards
ORGANIZER;CN="Mary Grace Boyle":MAILTO:boylemary55@gmail.com
END:VEVENT
BEGIN:VEVENT
DTSTART;TZID=America/New_York:20250616T170000
DTEND;TZID=America/New_York:20250616T180000
DTSTAMP:20260423T180349
CREATED:20250103T161223Z
LAST-MODIFIED:20250103T161223Z
UID:6220-1750093200-1750096800@www.lwv-rva.org
SUMMARY:LWV RMA DEI Monthly Committee Meeting
DESCRIPTION:LWV RMA DEI Monthly Committee Meeting
URL:https://www.lwv-rva.org/event/lwv-rma-dei-monthly-committee-meeting-23/
LOCATION:Zoom
CATEGORIES:Committee Meeting,Diversity Equity & Inclusion
ORGANIZER;CN="Dr. Doris Mallory Bey":MAILTO:imdmbey7@gmail.com
END:VEVENT
BEGIN:VEVENT
DTSTART;TZID=America/New_York:20250612T183000
DTEND;TZID=America/New_York:20250612T193000
DTSTAMP:20260423T180349
CREATED:20250103T020739Z
LAST-MODIFIED:20250103T020739Z
UID:6175-1749753000-1749756600@www.lwv-rva.org
SUMMARY:LWV RMA Education Committee Meeting
DESCRIPTION:LWV RMA Education Committee Meeting
URL:https://www.lwv-rva.org/event/lwv-rma-education-committee-meeting-22/
LOCATION:Zoom
CATEGORIES:Committee Meeting,Education
ORGANIZER;CN="Anna Mason":MAILTO:amason,darby@gmail.com
END:VEVENT
BEGIN:VEVENT
DTSTART;TZID=America/New_York:20250528T120000
DTEND;TZID=America/New_York:20250528T130000
DTSTAMP:20260423T180349
CREATED:20250104T004427Z
LAST-MODIFIED:20250104T004427Z
UID:6261-1748433600-1748437200@www.lwv-rva.org
SUMMARY:LWV RMA Affordable Housing Committee Meeting
DESCRIPTION:LWV RMA Affordable Housing Committee Meeting
URL:https://www.lwv-rva.org/event/lwv-rma-affordable-housing-committee-meeting-28/
LOCATION:Zoom
CATEGORIES:Affordable Housing,Committee Meeting
ORGANIZER;CN="Marilyn Breslow":MAILTO:marilyn.breslow@gmail.com
END:VEVENT
BEGIN:VEVENT
DTSTART;TZID=America/New_York:20250527T143000
DTEND;TZID=America/New_York:20250527T153000
DTSTAMP:20260423T180349
CREATED:20250103T155547Z
LAST-MODIFIED:20250103T155547Z
UID:6203-1748356200-1748359800@www.lwv-rva.org
SUMMARY:LWV RMA Membership & Engagement Committee Meeting
DESCRIPTION:LWV RMA Membership & Engagement Committee Meeting
URL:https://www.lwv-rva.org/event/lwv-rma-membership-engagement-committee-meeting-27/
LOCATION:Zoom
CATEGORIES:Committee Meeting,Membership
ORGANIZER;CN="Carol Stephens":MAILTO:carterstephens69@icloud.com
END:VEVENT
BEGIN:VEVENT
DTSTART;TZID=America/New_York:20250526T133000
DTEND;TZID=America/New_York:20250526T143000
DTSTAMP:20260423T180349
CREATED:20250104T001939Z
LAST-MODIFIED:20250104T002823Z
UID:6246-1748266200-1748269800@www.lwv-rva.org
SUMMARY:LWV RMA Electoral Board Observation Committee Meeting
DESCRIPTION:LWV RMA Electoral Board Observation Committee Meeting
URL:https://www.lwv-rva.org/event/lwv-rma-electoral-board-observation-committee-meeting-14/
LOCATION:Zoom
CATEGORIES:Committee Meeting,Electoral Boards
ORGANIZER;CN="Mary Grace Boyle":MAILTO:boylemary55@gmail.com
END:VEVENT
BEGIN:VEVENT
DTSTART;TZID=America/New_York:20250522T160000
DTEND;TZID=America/New_York:20250522T170000
DTSTAMP:20260423T180349
CREATED:20250104T005551Z
LAST-MODIFIED:20250104T005551Z
UID:6275-1747929600-1747933200@www.lwv-rva.org
SUMMARY:LWV RMA Events Planning Subcommittee Meeting
DESCRIPTION:LWV RMA Events Planning Subcommittee Meeting
URL:https://www.lwv-rva.org/event/lwv-rma-events-planning-subcommittee-meeting-27/
LOCATION:Zoom
CATEGORIES:Committee Meeting,Events Planning
ORGANIZER;CN="Fran Eckenrode":MAILTO:feckenr@gmail.com
END:VEVENT
BEGIN:VEVENT
DTSTART;TZID=America/New_York:20250519T170000
DTEND;TZID=America/New_York:20250519T180000
DTSTAMP:20260423T180349
CREATED:20250103T161020Z
LAST-MODIFIED:20250103T161020Z
UID:6218-1747674000-1747677600@www.lwv-rva.org
SUMMARY:LWV RMA DEI Monthly Committee Meeting
DESCRIPTION:LWV RMA DEI Monthly Committee Meeting
URL:https://www.lwv-rva.org/event/lwv-rma-dei-monthly-committee-meeting-22/
LOCATION:Zoom
CATEGORIES:Committee Meeting,Diversity Equity & Inclusion
ORGANIZER;CN="Dr. Doris Mallory Bey":MAILTO:imdmbey7@gmail.com
END:VEVENT
BEGIN:VEVENT
DTSTART;TZID=America/New_York:20250514T173000
DTEND;TZID=America/New_York:20250514T183000
DTSTAMP:20260423T180349
CREATED:20250103T030630Z
LAST-MODIFIED:20250214T143651Z
UID:6189-1747243800-1747247400@www.lwv-rva.org
SUMMARY:LWV RMA Communications Committee Meeting
DESCRIPTION:LWV RMA Communications Committee Meeting
URL:https://www.lwv-rva.org/event/lwv-rma-communications-committee-meeting-38/
LOCATION:Zoom
CATEGORIES:Committee Meeting,Communications
ORGANIZER;CN="Anna Mason":MAILTO:amason.darby@gmail.com
END:VEVENT
BEGIN:VEVENT
DTSTART;TZID=America/New_York:20250508T183000
DTEND;TZID=America/New_York:20250508T193000
DTSTAMP:20260423T180349
CREATED:20250103T020546Z
LAST-MODIFIED:20250103T020546Z
UID:6173-1746729000-1746732600@www.lwv-rva.org
SUMMARY:LWV RMA Education Committee Meeting
DESCRIPTION:LWV RMA Education Committee Meeting
URL:https://www.lwv-rva.org/event/lwv-rma-education-committee-meeting-21/
LOCATION:Zoom
CATEGORIES:Committee Meeting,Education
ORGANIZER;CN="Anna Mason":MAILTO:amason,darby@gmail.com
END:VEVENT
BEGIN:VEVENT
DTSTART;TZID=America/New_York:20250428T133000
DTEND;TZID=America/New_York:20250428T143000
DTSTAMP:20260423T180349
CREATED:20250104T001752Z
LAST-MODIFIED:20250104T001752Z
UID:6244-1745847000-1745850600@www.lwv-rva.org
SUMMARY:LWV RMA Electoral Board Observation Committee Meeting
DESCRIPTION:LWV RMA Electoral Board Observation Committee Meeting
URL:https://www.lwv-rva.org/event/lwv-rma-electoral-board-observation-committee-meeting-13/
LOCATION:Zoom
CATEGORIES:Committee Meeting,Electoral Boards
ORGANIZER;CN="Mary Grace Boyle":MAILTO:boylemary55@gmail.com
END:VEVENT
END:VCALENDAR