BEGIN:VCALENDAR
VERSION:2.0
PRODID:-//LWV-RMA - ECPv6.15.17//NONSGML v1.0//EN
CALSCALE:GREGORIAN
METHOD:PUBLISH
X-WR-CALNAME:LWV-RMA
X-ORIGINAL-URL:https://www.lwv-rva.org
X-WR-CALDESC:Events for LWV-RMA
REFRESH-INTERVAL;VALUE=DURATION:PT1H
X-Robots-Tag:noindex
X-PUBLISHED-TTL:PT1H
BEGIN:VTIMEZONE
TZID:America/New_York
BEGIN:DAYLIGHT
TZOFFSETFROM:-0500
TZOFFSETTO:-0400
TZNAME:EDT
DTSTART:20240310T070000
END:DAYLIGHT
BEGIN:STANDARD
TZOFFSETFROM:-0400
TZOFFSETTO:-0500
TZNAME:EST
DTSTART:20241103T060000
END:STANDARD
BEGIN:DAYLIGHT
TZOFFSETFROM:-0500
TZOFFSETTO:-0400
TZNAME:EDT
DTSTART:20250309T070000
END:DAYLIGHT
BEGIN:STANDARD
TZOFFSETFROM:-0400
TZOFFSETTO:-0500
TZNAME:EST
DTSTART:20251102T060000
END:STANDARD
BEGIN:DAYLIGHT
TZOFFSETFROM:-0500
TZOFFSETTO:-0400
TZNAME:EDT
DTSTART:20260308T070000
END:DAYLIGHT
BEGIN:STANDARD
TZOFFSETFROM:-0400
TZOFFSETTO:-0500
TZNAME:EST
DTSTART:20261101T060000
END:STANDARD
BEGIN:DAYLIGHT
TZOFFSETFROM:-0500
TZOFFSETTO:-0400
TZNAME:EDT
DTSTART:20270314T070000
END:DAYLIGHT
BEGIN:STANDARD
TZOFFSETFROM:-0400
TZOFFSETTO:-0500
TZNAME:EST
DTSTART:20271107T060000
END:STANDARD
END:VTIMEZONE
BEGIN:VEVENT
DTSTART;TZID=America/New_York:20260316T180000
DTEND;TZID=America/New_York:20260316T190000
DTSTAMP:20260423T145935
CREATED:20260112T205637Z
LAST-MODIFIED:20260121T214443Z
UID:6834-1773684000-1773687600@www.lwv-rva.org
SUMMARY:LWV RMA DEI Committee Meeting
DESCRIPTION:LWV RMA DEI Committee Meeting
URL:https://www.lwv-rva.org/event/lwv-rma-dei-committee-meeting-5/
LOCATION:Zoom
CATEGORIES:Committee Meeting,Diversity Equity & Inclusion
ORGANIZER;CN="Roxanne Rucker":MAILTO:ryrucker@outlook.com
END:VEVENT
BEGIN:VEVENT
DTSTART;TZID=America/New_York:20260312T183000
DTEND;TZID=America/New_York:20260312T193000
DTSTAMP:20260423T145935
CREATED:20260112T205208Z
LAST-MODIFIED:20260301T212443Z
UID:6831-1773340200-1773343800@www.lwv-rva.org
SUMMARY:LWV RMA Education Committee Meeting
DESCRIPTION:LWV RMA Education Committee Meeting
URL:https://www.lwv-rva.org/event/lwv-rma-education-committee-meeting-27/
LOCATION:Zoom
CATEGORIES:Committee Meeting,Education
ORGANIZER;CN="Anna Mason":MAILTO:amason.darby@gmail.com
END:VEVENT
BEGIN:VEVENT
DTSTART;TZID=America/New_York:20260311T173000
DTEND;TZID=America/New_York:20260311T183000
DTSTAMP:20260423T145935
CREATED:20260112T204514Z
LAST-MODIFIED:20260301T210716Z
UID:6826-1773250200-1773253800@www.lwv-rva.org
SUMMARY:TO BE RESCHEDULED - LWV RMA Communications Committee Meeting
DESCRIPTION:LWV RMA Communications Committee Meeting
URL:https://www.lwv-rva.org/event/lwv-rma-communications-committee-meeting-7/
LOCATION:Zoom
CATEGORIES:Committee Meeting,Communications
ORGANIZER;CN="Cara Clements":MAILTO:cclements78@gmail.com
END:VEVENT
BEGIN:VEVENT
DTSTART;TZID=America/New_York:20260224T143000
DTEND;TZID=America/New_York:20260224T153000
DTSTAMP:20260423T145935
CREATED:20251111T200447Z
LAST-MODIFIED:20251111T200447Z
UID:6752-1771943400-1771947000@www.lwv-rva.org
SUMMARY:LWV RMA Membership and Engagement Committee Meeting
DESCRIPTION:LWV RMA Membership and Engagement Committee Meeting
URL:https://www.lwv-rva.org/event/lwv-rma-membership-and-engagement-committee-meeting-4/
LOCATION:Zoom
CATEGORIES:Committee Meeting,Membership and Engagment Committee
ORGANIZER;CN="Carol Stephens":MAILTO:carterstephens69@icloud.com
END:VEVENT
BEGIN:VEVENT
DTSTART;TZID=America/New_York:20260223T133000
DTEND;TZID=America/New_York:20260223T143000
DTSTAMP:20260423T145935
CREATED:20251111T200239Z
LAST-MODIFIED:20251111T200239Z
UID:6749-1771853400-1771857000@www.lwv-rva.org
SUMMARY:LWV RMA Electoral Board Observation Committee Meeting
DESCRIPTION:LWV RMA Electoral Board Observation Committee Meeting
URL:https://www.lwv-rva.org/event/lwv-rma-electoral-board-observation-committee-meeting-20/
LOCATION:Zoom
CATEGORIES:Committee Meeting,Electoral Board Observation Committee
ORGANIZER;CN="Mary Grace Boyle":MAILTO:boylemary55@gmail.com
END:VEVENT
BEGIN:VEVENT
DTSTART;TZID=America/New_York:20260219T173000
DTEND;TZID=America/New_York:20260219T183000
DTSTAMP:20260423T145935
CREATED:20260112T204227Z
LAST-MODIFIED:20260112T204227Z
UID:6824-1771522200-1771525800@www.lwv-rva.org
SUMMARY:LWV RMA Voter Services Committee Meeting
DESCRIPTION:LWV RMA Voter Services Committee Meeting
URL:https://www.lwv-rva.org/event/lwv-rma-voter-services-committee-meeting-5/
LOCATION:Zoom
CATEGORIES:Committee Meeting,Voter Services Committee Meeting
ORGANIZER;CN="Mary Crutchfield":MAILTO:marycrutchfield6@gmail.com
END:VEVENT
BEGIN:VEVENT
DTSTART;TZID=America/New_York:20260217T170000
DTEND;TZID=America/New_York:20260217T180000
DTSTAMP:20260423T145935
CREATED:20251111T195753Z
LAST-MODIFIED:20251207T201259Z
UID:6742-1771347600-1771351200@www.lwv-rva.org
SUMMARY:LWV RMA Events Planning Subcommittee
DESCRIPTION:LWV RMA Events Planning Subcommittee
URL:https://www.lwv-rva.org/event/lwv-rma-events-planning-subcommittee-4/
LOCATION:Zoom
CATEGORIES:Committee Meeting,Events Planning
ORGANIZER;CN="Fran Eckenrode":MAILTO:feckenr@gmail.com
END:VEVENT
BEGIN:VEVENT
DTSTART;TZID=America/New_York:20260216T180000
DTEND;TZID=America/New_York:20260216T190000
DTSTAMP:20260423T145935
CREATED:20251111T195540Z
LAST-MODIFIED:20260121T214513Z
UID:6739-1771264800-1771268400@www.lwv-rva.org
SUMMARY:LWV RMA DEI Committee Meeting
DESCRIPTION:LWV RMA DEI Committee Meeting
URL:https://www.lwv-rva.org/event/lwv-rma-dei-committee-meeting-4/
LOCATION:Zoom
CATEGORIES:Committee Meeting,Diversity Equity & Inclusion
ORGANIZER;CN="Roxanne Rucker":MAILTO:ryrucker@outlook.com
END:VEVENT
BEGIN:VEVENT
DTSTART;TZID=America/New_York:20260212T183000
DTEND;TZID=America/New_York:20260212T193000
DTSTAMP:20260423T145935
CREATED:20251111T195320Z
LAST-MODIFIED:20251111T195320Z
UID:6737-1770921000-1770924600@www.lwv-rva.org
SUMMARY:LWV RMA Education Committee Meeting
DESCRIPTION:LWV RMA Education Committee Meeting
URL:https://www.lwv-rva.org/event/lwv-rma-education-committee-meeting-25/
LOCATION:Zoom
CATEGORIES:Committee Meeting,Education
ORGANIZER;CN="Anna Mason":MAILTO:amason.darby@gmail.com
END:VEVENT
BEGIN:VEVENT
DTSTART;TZID=America/New_York:20260211T173000
DTEND;TZID=America/New_York:20260211T183000
DTSTAMP:20260423T145935
CREATED:20251111T195042Z
LAST-MODIFIED:20251111T195042Z
UID:6734-1770831000-1770834600@www.lwv-rva.org
SUMMARY:LWV RMA Communications Committee Meeting
DESCRIPTION:LWV RMA Communications Committee Meeting
URL:https://www.lwv-rva.org/event/lwv-rma-communications-committee-meeting-6/
LOCATION:Zoom
CATEGORIES:Committee Meeting,Communications
ORGANIZER;CN="Cara Clements":MAILTO:cclements78@gmail.com
END:VEVENT
BEGIN:VEVENT
DTSTART;TZID=America/New_York:20260128T120000
DTEND;TZID=America/New_York:20260128T130000
DTSTAMP:20260423T145935
CREATED:20251110T205430Z
LAST-MODIFIED:20251110T205430Z
UID:6731-1769601600-1769605200@www.lwv-rva.org
SUMMARY:LWV RMA Affordable Housing Committee Meeting
DESCRIPTION:LWV RMA Affordable Housing Committee Meeting
URL:https://www.lwv-rva.org/event/lwv-rma-affordable-housing-committee-meeting-6/
LOCATION:Zoom
CATEGORIES:Affordable Housing,Committee Meeting
ORGANIZER;CN="Marilyn Breslow":MAILTO:marilyn.breslow@gmail.com
END:VEVENT
BEGIN:VEVENT
DTSTART;TZID=America/New_York:20260127T143000
DTEND;TZID=America/New_York:20260127T153000
DTSTAMP:20260423T145935
CREATED:20251110T205224Z
LAST-MODIFIED:20251207T201020Z
UID:6728-1769524200-1769527800@www.lwv-rva.org
SUMMARY:LWV RMA Membership and Engagement Committee Meeting
DESCRIPTION:LWV RMA Membership and Engagement Committee Meeting
URL:https://www.lwv-rva.org/event/lwv-rma-membership-and-engagment-committee-meeting/
LOCATION:Zoom
CATEGORIES:Committee Meeting,Membership and Engagment Committee
ORGANIZER;CN="Carol Stephens":MAILTO:carterstephens69@icloud.com
END:VEVENT
BEGIN:VEVENT
DTSTART;TZID=America/New_York:20260126T133000
DTEND;TZID=America/New_York:20260126T143000
DTSTAMP:20260423T145935
CREATED:20251110T204953Z
LAST-MODIFIED:20251110T204953Z
UID:6725-1769434200-1769437800@www.lwv-rva.org
SUMMARY:LWV RMA Electoral Observation Committee Meeting
DESCRIPTION:LWV RMA Electoral Observation Committee Meeting
URL:https://www.lwv-rva.org/event/lwv-rma-electoral-observation-committee-meeting/
LOCATION:Zoom
CATEGORIES:Committee Meeting,Electoral Board Observation Committee
ORGANIZER;CN="Mary Grace Boyle":MAILTO:boylemary55@gmail.com
END:VEVENT
BEGIN:VEVENT
DTSTART;TZID=America/New_York:20260122T173000
DTEND;TZID=America/New_York:20260122T183000
DTSTAMP:20260423T145935
CREATED:20251110T204707Z
LAST-MODIFIED:20251110T204707Z
UID:6722-1769103000-1769106600@www.lwv-rva.org
SUMMARY:LWV RMA Voter Services Committee Meeting
DESCRIPTION:LWV RMA Voter Services Committee Meeting
URL:https://www.lwv-rva.org/event/lwv-rma-voter-services-committee-meeting-4/
LOCATION:Zoom
CATEGORIES:Committee Meeting,Voter Services
ORGANIZER;CN="Mary Crutchfield":MAILTO:marycrutchfield6@gmail.com
END:VEVENT
BEGIN:VEVENT
DTSTART;TZID=America/New_York:20260120T170000
DTEND;TZID=America/New_York:20260120T180000
DTSTAMP:20260423T145935
CREATED:20251110T204055Z
LAST-MODIFIED:20251207T200455Z
UID:6715-1768928400-1768932000@www.lwv-rva.org
SUMMARY:LWV RMA Events Planning Subcommittee Meeting
DESCRIPTION:LWV RMA Events Planning Subcommittee Meeting
URL:https://www.lwv-rva.org/event/lwv-rma-events-planning-subcommittee-meeting-2/
LOCATION:Zoom
CATEGORIES:Committee Meeting,Events Planning
ORGANIZER;CN="Fran Eckenrode":MAILTO:feckenr@gmail.com
END:VEVENT
BEGIN:VEVENT
DTSTART;TZID=America/New_York:20260119T170000
DTEND;TZID=America/New_York:20260119T180000
DTSTAMP:20260423T145935
CREATED:20251110T203506Z
LAST-MODIFIED:20251110T204124Z
UID:6712-1768842000-1768845600@www.lwv-rva.org
SUMMARY:LWV RMA DEI Committee Meeting
DESCRIPTION:LWV RMA DEI Committee Meeting
URL:https://www.lwv-rva.org/event/lwv-rma-dei-committee-meeting-3/
LOCATION:Zoom
CATEGORIES:Committee Meeting,Diversity Equity & Inclusion
ORGANIZER;CN="Dr. Doris Mallory Bey":MAILTO:imdmbey7@gmail.com
END:VEVENT
BEGIN:VEVENT
DTSTART;TZID=America/New_York:20260114T173000
DTEND;TZID=America/New_York:20260114T183000
DTSTAMP:20260423T145935
CREATED:20251110T203120Z
LAST-MODIFIED:20251207T200815Z
UID:6708-1768411800-1768415400@www.lwv-rva.org
SUMMARY:LWV RMA Communications Committee Meeting
DESCRIPTION:LWV RMA Communications Committee Meeting
URL:https://www.lwv-rva.org/event/lwv-communications-committee-meeting/
LOCATION:Zoom
CATEGORIES:Committee Meeting,Communications
ORGANIZER;CN="Cara Clements":MAILTO:cclements78@gmail.com
END:VEVENT
BEGIN:VEVENT
DTSTART;TZID=America/New_York:20260112T180000
DTEND;TZID=America/New_York:20260112T190000
DTSTAMP:20260423T145935
CREATED:20260112T204751Z
LAST-MODIFIED:20260112T204751Z
UID:6829-1768240800-1768244400@www.lwv-rva.org
SUMMARY:LWV RMA Education Committee Meeting
DESCRIPTION:
URL:https://www.lwv-rva.org/event/lwv-rma-education-committee-meeting-26/
LOCATION:Zoom
CATEGORIES:Committee Meeting,Education
ORGANIZER;CN="Anna Mason":MAILTO:amason.darby@gmail.com
END:VEVENT
BEGIN:VEVENT
DTSTART;TZID=America/New_York:20260108T183000
DTEND;TZID=America/New_York:20260108T193000
DTSTAMP:20260423T145935
CREATED:20251110T202547Z
LAST-MODIFIED:20251207T200141Z
UID:6702-1767897000-1767900600@www.lwv-rva.org
SUMMARY:LWV RMA Education Committee Meeting
DESCRIPTION:LWV RMA Education Committee Meeting
URL:https://www.lwv-rva.org/event/lwv-rma-education-committee-meeting-24/
LOCATION:Zoom
CATEGORIES:Committee Meeting,Education
ORGANIZER;CN="Anna Mason":MAILTO:amason.darby@gmail.com
END:VEVENT
BEGIN:VEVENT
DTSTART;TZID=America/New_York:20251112T173000
DTEND;TZID=America/New_York:20251112T183000
DTSTAMP:20260423T145935
CREATED:20250716T142506Z
LAST-MODIFIED:20250716T142506Z
UID:6484-1762968600-1762972200@www.lwv-rva.org
SUMMARY:LWV RMA Communications Committee Meeting
DESCRIPTION:LWV RMA Communications Committee Meeting
URL:https://www.lwv-rva.org/event/lwv-rma-communications-committee-meeting-2/
LOCATION:Zoom
CATEGORIES:Committee Meeting,Communications
ORGANIZER;CN="Cara Clements":MAILTO:cclements78@gmail.com
END:VEVENT
BEGIN:VEVENT
DTSTART;TZID=America/New_York:20251008T173000
DTEND;TZID=America/New_York:20251008T183000
DTSTAMP:20260423T145935
CREATED:20250716T141831Z
LAST-MODIFIED:20250716T141831Z
UID:6482-1759944600-1759948200@www.lwv-rva.org
SUMMARY:LWV RMA Communications Committee Meeting
DESCRIPTION:LWV RMA Communications Committee Meeting
URL:https://www.lwv-rva.org/event/lwv-rma-communications-committee-meeting-5/
LOCATION:Zoom
CATEGORIES:Committee Meeting,Communications
ORGANIZER;CN="Cara Clements":MAILTO:cclements78@gmail.com
END:VEVENT
BEGIN:VEVENT
DTSTART;TZID=America/New_York:20250910T173000
DTEND;TZID=America/New_York:20250910T173000
DTSTAMP:20260423T145935
CREATED:20250716T141620Z
LAST-MODIFIED:20250716T142144Z
UID:6480-1757525400-1757525400@www.lwv-rva.org
SUMMARY:LWV RMA Communications Committee Meeting
DESCRIPTION:LWV RMA Communications Committee Meeting
URL:https://www.lwv-rva.org/event/lwv-rma-communications-committee-meeting-4/
LOCATION:Zoom
CATEGORIES:Committee Meeting,Communications
ORGANIZER;CN="Cara Clements":MAILTO:cclements78@gmail.com
END:VEVENT
BEGIN:VEVENT
DTSTART;TZID=America/New_York:20250827T120000
DTEND;TZID=America/New_York:20250827T130000
DTSTAMP:20260423T145935
CREATED:20250724T203251Z
LAST-MODIFIED:20250724T203251Z
UID:6519-1756296000-1756299600@www.lwv-rva.org
SUMMARY:LWV RMA Affordable Housing Committee Meeting
DESCRIPTION:LWV RMA Affordable Housing Committee Meeting
URL:https://www.lwv-rva.org/event/lwv-rma-affordable-housing-committee-meeting-2/
LOCATION:Zoom
CATEGORIES:Affordable Housing,Committee Meeting
ORGANIZER;CN="Marilyn Breslow":MAILTO:marilyn.breslow@gmail.com
END:VEVENT
BEGIN:VEVENT
DTSTART;TZID=America/New_York:20250826T143000
DTEND;TZID=America/New_York:20250826T153000
DTSTAMP:20260423T145935
CREATED:20250724T202746Z
LAST-MODIFIED:20250724T203447Z
UID:6516-1756218600-1756222200@www.lwv-rva.org
SUMMARY:Cancelled LWV RMA Membership and Engagement Committee
DESCRIPTION:Cancelled LWV RMA Membership and Engagement Committee
URL:https://www.lwv-rva.org/event/cancelled-lwv-rma-memebership-and-engagement-committee/
LOCATION:Zoom
CATEGORIES:Committee Meeting
ORGANIZER;CN="Carol Stephens":MAILTO:carterstephens69@icloud.com
END:VEVENT
BEGIN:VEVENT
DTSTART;TZID=America/New_York:20250825T133000
DTEND;TZID=America/New_York:20250825T143000
DTSTAMP:20260423T145935
CREATED:20250724T201958Z
LAST-MODIFIED:20250724T202323Z
UID:6513-1756128600-1756132200@www.lwv-rva.org
SUMMARY:LWV RMA Electoral Board Observation Committee Meeting
DESCRIPTION:LWV RMA Electoral Board Observation Committee Meeting
URL:https://www.lwv-rva.org/event/lwv-rma-electoral-board-observation-committee-meeting-17/
LOCATION:Zoom
CATEGORIES:Committee Meeting,Electoral Board Observation Committee
ORGANIZER;CN="Mary Grace Boyle":MAILTO:boylemary55@gmail.com
END:VEVENT
BEGIN:VEVENT
DTSTART;TZID=America/New_York:20250821T173000
DTEND;TZID=America/New_York:20250821T183000
DTSTAMP:20260423T145935
CREATED:20250724T200918Z
LAST-MODIFIED:20250724T201104Z
UID:6511-1755797400-1755801000@www.lwv-rva.org
SUMMARY:LWV RMA Voter Services Committee Meeting
DESCRIPTION:LWV RMA Voter Services Committee Meeting
URL:https://www.lwv-rva.org/event/lwv-rma-voter-services-committee-meeting/
LOCATION:Zoom
CATEGORIES:Committee Meeting,Voter Services
ORGANIZER;CN="Mary Crutchfield":MAILTO:marycrutchfield6@gmail.com
END:VEVENT
BEGIN:VEVENT
DTSTART;TZID=America/New_York:20250819T173000
DTEND;TZID=America/New_York:20250819T183000
DTSTAMP:20260423T145935
CREATED:20250724T184612Z
LAST-MODIFIED:20250724T184612Z
UID:6507-1755624600-1755628200@www.lwv-rva.org
SUMMARY:LWV RMA Events Planning Subcommittee
DESCRIPTION:LWV RMA Events Planning Subcommittee
URL:https://www.lwv-rva.org/event/lwv-rma-events-planning-subcommittee/
LOCATION:Zoom
CATEGORIES:Committee Meeting,Events Planning
ORGANIZER;CN="Fran Eckenrode":MAILTO:feckenr@gmail.com
END:VEVENT
BEGIN:VEVENT
DTSTART;TZID=America/New_York:20250818T170000
DTEND;TZID=America/New_York:20250818T180000
DTSTAMP:20260423T145935
CREATED:20250625T175944Z
LAST-MODIFIED:20250724T200112Z
UID:6465-1755536400-1755540000@www.lwv-rva.org
SUMMARY:LWV RMA DEI Committee
DESCRIPTION:LWV RMA DEI Committee
URL:https://www.lwv-rva.org/event/lwv-rma-dei-committee/
LOCATION:Zoom
CATEGORIES:Committee Meeting,Diversity Equity & Inclusion
ORGANIZER;CN="Dr. Doris Mallory Bey":MAILTO:imdmbey7@gmail.com
END:VEVENT
BEGIN:VEVENT
DTSTART;TZID=America/New_York:20250814T183000
DTEND;TZID=America/New_York:20250814T193000
DTSTAMP:20260423T145935
CREATED:20250625T175206Z
LAST-MODIFIED:20250724T202837Z
UID:6463-1755196200-1755199800@www.lwv-rva.org
SUMMARY:Cancelled LWV RMA Education Committee Meeting
DESCRIPTION:LWV RMA Education Committee Meeting
URL:https://www.lwv-rva.org/event/lwv-rma-education-committee-meeting/
LOCATION:Zoom
CATEGORIES:Committee Meeting,Education
ORGANIZER;CN="Anna Mason":MAILTO:amason,darby@gmail.com
END:VEVENT
BEGIN:VEVENT
DTSTART;TZID=America/New_York:20250813T173000
DTEND;TZID=America/New_York:20250813T183000
DTSTAMP:20260423T145935
CREATED:20250716T141353Z
LAST-MODIFIED:20250716T142030Z
UID:6478-1755106200-1755109800@www.lwv-rva.org
SUMMARY:LWV RMA Communications Committee Meeting
DESCRIPTION:LWV RMA Communications Committee Meeting
URL:https://www.lwv-rva.org/event/lwv-rma-communications-committee-meeting-3/
LOCATION:Zoom
CATEGORIES:Committee Meeting,Communications
ORGANIZER;CN="Cara Clements":MAILTO:cclements78@gmail.com
END:VEVENT
END:VCALENDAR