BEGIN:VCALENDAR
VERSION:2.0
PRODID:-//LWV-RMA - ECPv6.15.17//NONSGML v1.0//EN
CALSCALE:GREGORIAN
METHOD:PUBLISH
X-WR-CALNAME:LWV-RMA
X-ORIGINAL-URL:https://www.lwv-rva.org
X-WR-CALDESC:Events for LWV-RMA
REFRESH-INTERVAL;VALUE=DURATION:PT1H
X-Robots-Tag:noindex
X-PUBLISHED-TTL:PT1H
BEGIN:VTIMEZONE
TZID:America/New_York
BEGIN:DAYLIGHT
TZOFFSETFROM:-0500
TZOFFSETTO:-0400
TZNAME:EDT
DTSTART:20230312T070000
END:DAYLIGHT
BEGIN:STANDARD
TZOFFSETFROM:-0400
TZOFFSETTO:-0500
TZNAME:EST
DTSTART:20231105T060000
END:STANDARD
BEGIN:DAYLIGHT
TZOFFSETFROM:-0500
TZOFFSETTO:-0400
TZNAME:EDT
DTSTART:20240310T070000
END:DAYLIGHT
BEGIN:STANDARD
TZOFFSETFROM:-0400
TZOFFSETTO:-0500
TZNAME:EST
DTSTART:20241103T060000
END:STANDARD
BEGIN:DAYLIGHT
TZOFFSETFROM:-0500
TZOFFSETTO:-0400
TZNAME:EDT
DTSTART:20250309T070000
END:DAYLIGHT
BEGIN:STANDARD
TZOFFSETFROM:-0400
TZOFFSETTO:-0500
TZNAME:EST
DTSTART:20251102T060000
END:STANDARD
END:VTIMEZONE
BEGIN:VEVENT
DTSTART;TZID=America/New_York:20240227T143000
DTEND;TZID=America/New_York:20240227T160000
DTSTAMP:20260424T180235
CREATED:20231216T193922Z
LAST-MODIFIED:20231216T193922Z
UID:5594-1709044200-1709049600@www.lwv-rva.org
SUMMARY:LWV RMA Membership & Engagement Committee Meeting
DESCRIPTION:LWV RMA Membership & Engagement Committee Meeting
URL:https://www.lwv-rva.org/event/lwv-rma-membership-engagement-committee-meeting-13/
LOCATION:Zoom
CATEGORIES:Committee Meeting,Membership
ORGANIZER;CN="Carol Stephens":MAILTO:carterstephens69@icloud.com
END:VEVENT
BEGIN:VEVENT
DTSTART;TZID=America/New_York:20240226T133000
DTEND;TZID=America/New_York:20240226T143000
DTSTAMP:20260424T180235
CREATED:20231216T185825Z
LAST-MODIFIED:20231216T185825Z
UID:5587-1708954200-1708957800@www.lwv-rva.org
SUMMARY:LWV RMA Electoral Board Observation Team Meeting
DESCRIPTION:LWV RMA Electoral Board Observation Team Meeting
URL:https://www.lwv-rva.org/event/lwv-rma-electoral-board-observation-team-meeting-14/
LOCATION:Zoom
CATEGORIES:Committee Meeting,Electoral Boards
ORGANIZER;CN="Mary Grace Boyle":MAILTO:boylemary55@gmail.com
END:VEVENT
BEGIN:VEVENT
DTSTART;TZID=America/New_York:20240222T160000
DTEND;TZID=America/New_York:20240222T170000
DTSTAMP:20260424T180235
CREATED:20231216T195829Z
LAST-MODIFIED:20231216T195829Z
UID:5612-1708617600-1708621200@www.lwv-rva.org
SUMMARY:LWV RMA Events Planning Subcommittee Meeting
DESCRIPTION:LWV RMA Events Planning Subcommittee Meeting
URL:https://www.lwv-rva.org/event/lwv-rma-events-planning-subcommittee-meeting-13/
LOCATION:Zoom
CATEGORIES:Committee Meeting,Events Planning
ORGANIZER;CN="Fran Eckenrode":MAILTO:feckenr@gmail.com
END:VEVENT
BEGIN:VEVENT
DTSTART;TZID=America/New_York:20240219T180000
DTEND;TZID=America/New_York:20240219T190000
DTSTAMP:20260424T180235
CREATED:20231216T183129Z
LAST-MODIFIED:20231216T183153Z
UID:5569-1708365600-1708369200@www.lwv-rva.org
SUMMARY:LWV RMA DEI Monthly Committee Meeting
DESCRIPTION:LWV RMA DEI Monthly Committee Meeting
URL:https://www.lwv-rva.org/event/lwv-rma-dei-monthly-committee-meeting-7/
LOCATION:Zoom
CATEGORIES:Committee Meeting,Diversity Equity & Inclusion
ORGANIZER;CN="Dr. Doris Mallory Bey":MAILTO:imdmbey7@gmail.com
END:VEVENT
BEGIN:VEVENT
DTSTART;TZID=America/New_York:20240215T173000
DTEND;TZID=America/New_York:20240215T183000
DTSTAMP:20260424T180235
CREATED:20231216T184715Z
LAST-MODIFIED:20231216T184715Z
UID:5575-1708018200-1708021800@www.lwv-rva.org
SUMMARY:LWV RMA Voter Services Committee Meeting
DESCRIPTION:LWV RMA Voter Services Committee Meeting
URL:https://www.lwv-rva.org/event/lwv-rma-voter-services-committee-meeting-14/
LOCATION:Zoom
CATEGORIES:Committee Meeting,Voter Services
ORGANIZER;CN="Mary Crutchfield":MAILTO:marycrutchfield6@gmail.com
END:VEVENT
BEGIN:VEVENT
DTSTART;TZID=America/New_York:20240214T173000
DTEND;TZID=America/New_York:20240214T183000
DTSTAMP:20260424T180235
CREATED:20231216T182445Z
LAST-MODIFIED:20231216T182445Z
UID:5563-1707931800-1707935400@www.lwv-rva.org
SUMMARY:LWV RMA Communications Committee Meeting
DESCRIPTION:LWV RMA Communications Committee Meeting
URL:https://www.lwv-rva.org/event/lwv-rma-communications-committee-meeting-23/
LOCATION:Zoom
CATEGORIES:Committee Meeting,Communications
ORGANIZER;CN="Kelly Coleman":MAILTO:hellokellycoleman@gmail.com
END:VEVENT
BEGIN:VEVENT
DTSTART;TZID=America/New_York:20240125T160000
DTEND;TZID=America/New_York:20240125T170000
DTSTAMP:20260424T180235
CREATED:20231216T195715Z
LAST-MODIFIED:20240113T162251Z
UID:5610-1706198400-1706202000@www.lwv-rva.org
SUMMARY:Cancelled for January:  LWV RMA Events Planning Subcommittee Meeting
DESCRIPTION:LWV RMA Events Planning Subcommittee Meeting
URL:https://www.lwv-rva.org/event/lwv-rma-events-planning-subcommittee-meeting-12/
LOCATION:Zoom
CATEGORIES:Committee Meeting,Events Planning
ORGANIZER;CN="Fran Eckenrode":MAILTO:feckenr@gmail.com
END:VEVENT
BEGIN:VEVENT
DTSTART;TZID=America/New_York:20240124T120000
DTEND;TZID=America/New_York:20240124T130000
DTSTAMP:20260424T180235
CREATED:20231216T195242Z
LAST-MODIFIED:20231216T195242Z
UID:5604-1706097600-1706101200@www.lwv-rva.org
SUMMARY:LWV RMA Affordable Housing Committee Meeting
DESCRIPTION:LWV RMA Affordable Housing Committee Meeting
URL:https://www.lwv-rva.org/event/lwv-rma-affordable-housing-committee-meeting-9/
LOCATION:Zoom
CATEGORIES:Affordable Housing,Committee Meeting
ORGANIZER;CN="Marilyn Breslow":MAILTO:marilyn.breslow@gmail.com
END:VEVENT
BEGIN:VEVENT
DTSTART;TZID=America/New_York:20240123T183000
DTEND;TZID=America/New_York:20240123T200000
DTSTAMP:20260424T180235
CREATED:20231216T194414Z
LAST-MODIFIED:20231216T194414Z
UID:5598-1706034600-1706040000@www.lwv-rva.org
SUMMARY:LWV RMA Education Committee Meeting
DESCRIPTION:LWV RMA Education Committee Meeting
URL:https://www.lwv-rva.org/event/lwv-rma-education-committee-meeting-5/
LOCATION:Zoom
CATEGORIES:Committee Meeting,Education
ORGANIZER;CN="Marianne Feeney":MAILTO:mariannefeeney@verizon.net
END:VEVENT
END:VCALENDAR