BEGIN:VCALENDAR
VERSION:2.0
PRODID:-//LWV-RMA - ECPv6.15.17//NONSGML v1.0//EN
CALSCALE:GREGORIAN
METHOD:PUBLISH
X-WR-CALNAME:LWV-RMA
X-ORIGINAL-URL:https://www.lwv-rva.org
X-WR-CALDESC:Events for LWV-RMA
REFRESH-INTERVAL;VALUE=DURATION:PT1H
X-Robots-Tag:noindex
X-PUBLISHED-TTL:PT1H
BEGIN:VTIMEZONE
TZID:America/New_York
BEGIN:DAYLIGHT
TZOFFSETFROM:-0500
TZOFFSETTO:-0400
TZNAME:EDT
DTSTART:20230312T070000
END:DAYLIGHT
BEGIN:STANDARD
TZOFFSETFROM:-0400
TZOFFSETTO:-0500
TZNAME:EST
DTSTART:20231105T060000
END:STANDARD
BEGIN:DAYLIGHT
TZOFFSETFROM:-0500
TZOFFSETTO:-0400
TZNAME:EDT
DTSTART:20240310T070000
END:DAYLIGHT
BEGIN:STANDARD
TZOFFSETFROM:-0400
TZOFFSETTO:-0500
TZNAME:EST
DTSTART:20241103T060000
END:STANDARD
BEGIN:DAYLIGHT
TZOFFSETFROM:-0500
TZOFFSETTO:-0400
TZNAME:EDT
DTSTART:20250309T070000
END:DAYLIGHT
BEGIN:STANDARD
TZOFFSETFROM:-0400
TZOFFSETTO:-0500
TZNAME:EST
DTSTART:20251102T060000
END:STANDARD
END:VTIMEZONE
BEGIN:VEVENT
DTSTART;TZID=America/New_York:20240911T173000
DTEND;TZID=America/New_York:20240911T183000
DTSTAMP:20260424T083152
CREATED:20240628T154326Z
LAST-MODIFIED:20240628T154326Z
UID:5825-1726075800-1726079400@www.lwv-rva.org
SUMMARY:LWV RMA Communications Committee Meeting
DESCRIPTION:LWV RMA Communications Committee Meeting
URL:https://www.lwv-rva.org/event/lwv-rma-communications-committee-meeting-31/
LOCATION:Zoom
CATEGORIES:Committee Meeting,Communications
ORGANIZER;CN="Kelly Coleman":MAILTO:hellokellycoleman@gmail.com
END:VEVENT
BEGIN:VEVENT
DTSTART;TZID=America/New_York:20240828T120000
DTEND;TZID=America/New_York:20240828T130000
DTSTAMP:20260424T083152
CREATED:20240629T001742Z
LAST-MODIFIED:20240802T154444Z
UID:5853-1724846400-1724850000@www.lwv-rva.org
SUMMARY:LWV RMA Affordable Housing Committee Meeting
DESCRIPTION:LWV RMA Affordable Housing Committee Meeting
URL:https://www.lwv-rva.org/event/lwv-rma-affordable-housing-committee-meeting-20/
LOCATION:Zoom
CATEGORIES:Affordable Housing,Committee Meeting
ORGANIZER;CN="Marilyn Breslow":MAILTO:marilyn.breslow@gmail.com
END:VEVENT
BEGIN:VEVENT
DTSTART;TZID=America/New_York:20240827T183000
DTEND;TZID=America/New_York:20240827T193000
DTSTAMP:20260424T083152
CREATED:20240629T001131Z
LAST-MODIFIED:20240629T001131Z
UID:5847-1724783400-1724787000@www.lwv-rva.org
SUMMARY:LWV RMA Education Committee Meeting
DESCRIPTION:LWV RMA Education Committee Meeting
URL:https://www.lwv-rva.org/event/lwv-rma-education-committee-meeting-12/
LOCATION:Zoom
CATEGORIES:Committee Meeting,Education
ORGANIZER;CN="Anna Mason":MAILTO:amason,darby@gmail.com
END:VEVENT
BEGIN:VEVENT
DTSTART;TZID=America/New_York:20240827T143000
DTEND;TZID=America/New_York:20240827T153000
DTSTAMP:20260424T083152
CREATED:20240629T000540Z
LAST-MODIFIED:20240629T000540Z
UID:5841-1724769000-1724772600@www.lwv-rva.org
SUMMARY:LWV RMA Membership & Engagement Committee Meeting
DESCRIPTION:LWV RMA Membership & Engagement Committee Meeting
URL:https://www.lwv-rva.org/event/lwv-rma-membership-engagement-committee-meeting-19/
LOCATION:Zoom
CATEGORIES:Committee Meeting,Membership
ORGANIZER;CN="Carol Stephens":MAILTO:carterstephens69@icloud.com
END:VEVENT
BEGIN:VEVENT
DTSTART;TZID=America/New_York:20240826T133000
DTEND;TZID=America/New_York:20240826T143000
DTSTAMP:20260424T083152
CREATED:20240629T002832Z
LAST-MODIFIED:20240629T002832Z
UID:5865-1724679000-1724682600@www.lwv-rva.org
SUMMARY:LWV RMA Electoral Board Observation Committee Meeting
DESCRIPTION:LWV RMA Electoral Board Observation Committee Meeting
URL:https://www.lwv-rva.org/event/lwv-rma-electoral-board-observation-committee-meeting-5/
LOCATION:Zoom
CATEGORIES:Committee Meeting,Electoral Boards
ORGANIZER;CN="Mary Grace Boyle":MAILTO:boylemary55@gmail.com
END:VEVENT
BEGIN:VEVENT
DTSTART;TZID=America/New_York:20240822T160000
DTEND;TZID=America/New_York:20240822T170000
DTSTAMP:20260424T083152
CREATED:20240629T002304Z
LAST-MODIFIED:20240629T002304Z
UID:5859-1724342400-1724346000@www.lwv-rva.org
SUMMARY:LWV RMA Events Planning Subcommittee Meeting
DESCRIPTION:LWV RMA Events Planning Subcommittee Meeting
URL:https://www.lwv-rva.org/event/lwv-rma-events-planning-subcommittee-meeting-19/
LOCATION:Zoom
CATEGORIES:Committee Meeting,Events Planning
ORGANIZER;CN="Fran Eckenrode":MAILTO:feckenr@gmail.com
END:VEVENT
BEGIN:VEVENT
DTSTART;TZID=America/New_York:20240819T170000
DTEND;TZID=America/New_York:20240819T180000
DTSTAMP:20260424T083152
CREATED:20240628T154904Z
LAST-MODIFIED:20240628T154904Z
UID:5829-1724086800-1724090400@www.lwv-rva.org
SUMMARY:LWV RMA DEI Monthly Committee Meeting
DESCRIPTION:LWV RMA DEI Monthly Committee Meeting
URL:https://www.lwv-rva.org/event/lwv-rma-dei-monthly-committee-meeting-13/
LOCATION:Zoom
CATEGORIES:Committee Meeting,Diversity Equity & Inclusion
ORGANIZER;CN="Dr. Doris Mallory Bey":MAILTO:imdmbey7@gmail.com
END:VEVENT
BEGIN:VEVENT
DTSTART;TZID=America/New_York:20240815T173000
DTEND;TZID=America/New_York:20240815T183000
DTSTAMP:20260424T083152
CREATED:20240628T155538Z
LAST-MODIFIED:20240628T155538Z
UID:5835-1723743000-1723746600@www.lwv-rva.org
SUMMARY:LWV RMA Voter Services Committee Meeting
DESCRIPTION:LWV RMA Voter Services Committee Meeting
URL:https://www.lwv-rva.org/event/lwv-rma-voter-services-committee-meeting-20/
LOCATION:Zoom
CATEGORIES:Committee Meeting,Voter Services
ORGANIZER;CN="Mary Crutchfield":MAILTO:marycrutchfield6@gmail.com
END:VEVENT
BEGIN:VEVENT
DTSTART;TZID=America/New_York:20240814T173000
DTEND;TZID=America/New_York:20240814T183000
DTSTAMP:20260424T083152
CREATED:20240628T154008Z
LAST-MODIFIED:20240628T154008Z
UID:5821-1723656600-1723660200@www.lwv-rva.org
SUMMARY:LWV RMA Communications Committee Meeting
DESCRIPTION:LWV RMA Communications Committee Meeting
URL:https://www.lwv-rva.org/event/lwv-rma-communications-committee-meeting-29/
LOCATION:Zoom
CATEGORIES:Committee Meeting,Communications
ORGANIZER;CN="Kelly Coleman":MAILTO:hellokellycoleman@gmail.com
END:VEVENT
BEGIN:VEVENT
DTSTART;TZID=America/New_York:20240725T160000
DTEND;TZID=America/New_York:20240725T170000
DTSTAMP:20260424T083152
CREATED:20240629T002140Z
LAST-MODIFIED:20240629T002140Z
UID:5857-1721923200-1721926800@www.lwv-rva.org
SUMMARY:LWV RMA Events Planning Subcommittee Meeting
DESCRIPTION:LWV RMA Events Planning Subcommittee Meeting
URL:https://www.lwv-rva.org/event/lwv-rma-events-planning-subcommittee-meeting-18/
LOCATION:Zoom
CATEGORIES:Committee Meeting,Events Planning
ORGANIZER;CN="Fran Eckenrode":MAILTO:feckenr@gmail.com
END:VEVENT
BEGIN:VEVENT
DTSTART;TZID=America/New_York:20240724T120000
DTEND;TZID=America/New_York:20240724T130000
DTSTAMP:20260424T083152
CREATED:20240629T001626Z
LAST-MODIFIED:20240722T012511Z
UID:5851-1721822400-1721826000@www.lwv-rva.org
SUMMARY:LWV RMA Affordable Housing Committee Meeting - CANCELLED
DESCRIPTION:There will be no LWV RMA Affordable Housing Committee Meeting in July.
URL:https://www.lwv-rva.org/event/lwv-rma-affordable-housing-committee-meeting-19/
LOCATION:Zoom
CATEGORIES:Affordable Housing,Committee Meeting
ORGANIZER;CN="Marilyn Breslow":MAILTO:marilyn.breslow@gmail.com
END:VEVENT
BEGIN:VEVENT
DTSTART;TZID=America/New_York:20240723T183000
DTEND;TZID=America/New_York:20240723T200000
DTSTAMP:20260424T083152
CREATED:20240629T001005Z
LAST-MODIFIED:20240629T001005Z
UID:5845-1721759400-1721764800@www.lwv-rva.org
SUMMARY:LWV RMA Education Committee Meeting
DESCRIPTION:LWV RMA Education Committee Meeting
URL:https://www.lwv-rva.org/event/lwv-rma-education-committee-meeting-11/
LOCATION:Zoom
CATEGORIES:Committee Meeting,Education
ORGANIZER;CN="Anna Mason":MAILTO:amason,darby@gmail.com
END:VEVENT
BEGIN:VEVENT
DTSTART;TZID=America/New_York:20240723T143000
DTEND;TZID=America/New_York:20240723T153000
DTSTAMP:20260424T083152
CREATED:20240629T000408Z
LAST-MODIFIED:20240629T000408Z
UID:5839-1721745000-1721748600@www.lwv-rva.org
SUMMARY:LWV RMA Membership & Engagement Committee Meeting
DESCRIPTION:LWV RMA Membership & Engagement Committee Meeting
URL:https://www.lwv-rva.org/event/lwv-rma-membership-engagement-committee-meeting-18/
LOCATION:Zoom
CATEGORIES:Committee Meeting,Membership
ORGANIZER;CN="Carol Stephens":MAILTO:carterstephens69@icloud.com
END:VEVENT
BEGIN:VEVENT
DTSTART;TZID=America/New_York:20240722T133000
DTEND;TZID=America/New_York:20240722T143000
DTSTAMP:20260424T083152
CREATED:20240629T002657Z
LAST-MODIFIED:20240629T002657Z
UID:5863-1721655000-1721658600@www.lwv-rva.org
SUMMARY:LWV RMA Electoral Board Observation Committee Meeting
DESCRIPTION:LWV RMA Electoral Board Observation Committee Meeting
URL:https://www.lwv-rva.org/event/lwv-rma-electoral-board-observation-committee-meeting-4/
LOCATION:Zoom
CATEGORIES:Committee Meeting,Electoral Boards
ORGANIZER;CN="Mary Grace Boyle":MAILTO:boylemary55@gmail.com
END:VEVENT
BEGIN:VEVENT
DTSTART;TZID=America/New_York:20240718T173000
DTEND;TZID=America/New_York:20240718T183000
DTSTAMP:20260424T083152
CREATED:20240628T155354Z
LAST-MODIFIED:20240628T155354Z
UID:5833-1721323800-1721327400@www.lwv-rva.org
SUMMARY:LWV RMA Voter Services Committee Meeting
DESCRIPTION:LWV RMA Voter Services Committee Meeting
URL:https://www.lwv-rva.org/event/lwv-rma-voter-services-committee-meeting-18/
LOCATION:Zoom
CATEGORIES:Committee Meeting,Voter Services
ORGANIZER;CN="Mary Crutchfield":MAILTO:marycrutchfield6@gmail.com
END:VEVENT
BEGIN:VEVENT
DTSTART;TZID=America/New_York:20240715T170000
DTEND;TZID=America/New_York:20240715T180000
DTSTAMP:20260424T083152
CREATED:20240628T154718Z
LAST-MODIFIED:20240628T154718Z
UID:5827-1721062800-1721066400@www.lwv-rva.org
SUMMARY:LWV RMA DEI Monthly Committee Meeting
DESCRIPTION:LWV RMA DEI Monthly Committee Meeting
URL:https://www.lwv-rva.org/event/lwv-rma-dei-monthly-committee-meeting-12/
LOCATION:Zoom
CATEGORIES:Committee Meeting,Diversity Equity & Inclusion
ORGANIZER;CN="Dr. Doris Mallory Bey":MAILTO:imdmbey7@gmail.com
END:VEVENT
BEGIN:VEVENT
DTSTART;TZID=America/New_York:20240710T173000
DTEND;TZID=America/New_York:20240710T183000
DTSTAMP:20260424T083152
CREATED:20240628T153706Z
LAST-MODIFIED:20240628T153706Z
UID:5819-1720632600-1720636200@www.lwv-rva.org
SUMMARY:LWV RMA Communications Committee Meeting
DESCRIPTION:LWV RMA Communications Committee Meeting
URL:https://www.lwv-rva.org/event/lwv-rma-communications-committee-meeting-28/
LOCATION:Zoom
CATEGORIES:Committee Meeting,Communications
ORGANIZER;CN="Kelly Coleman":MAILTO:hellokellycoleman@gmail.com
END:VEVENT
BEGIN:VEVENT
DTSTART;TZID=America/New_York:20240627T160000
DTEND;TZID=America/New_York:20240627T170000
DTSTAMP:20260424T083152
CREATED:20240330T015621Z
LAST-MODIFIED:20240330T015621Z
UID:5751-1719504000-1719507600@www.lwv-rva.org
SUMMARY:LWV RMA Events Planning Subcommittee Meeting
DESCRIPTION:LWV RMA Events Planning Subcommittee Meeting
URL:https://www.lwv-rva.org/event/lwv-rma-events-planning-subcommittee-meeting-17/
LOCATION:Zoom
CATEGORIES:Committee Meeting,Events Planning
ORGANIZER;CN="Fran Eckenrode":MAILTO:feckenr@gmail.com
END:VEVENT
BEGIN:VEVENT
DTSTART;TZID=America/New_York:20240626T120000
DTEND;TZID=America/New_York:20240626T130000
DTSTAMP:20260424T083152
CREATED:20240330T014950Z
LAST-MODIFIED:20240330T014950Z
UID:5745-1719403200-1719406800@www.lwv-rva.org
SUMMARY:LWV RMA Affordable Housing Committee Meeting
DESCRIPTION:LWV RMA Affordable Housing Committee Meeting
URL:https://www.lwv-rva.org/event/lwv-rma-affordable-housing-committee-meeting-18/
LOCATION:Zoom
CATEGORIES:Affordable Housing,Committee Meeting
ORGANIZER;CN="Marilyn Breslow":MAILTO:marilyn.breslow@gmail.com
END:VEVENT
BEGIN:VEVENT
DTSTART;TZID=America/New_York:20240625T183000
DTEND;TZID=America/New_York:20240625T200000
DTSTAMP:20260424T083152
CREATED:20240330T014354Z
LAST-MODIFIED:20240330T014354Z
UID:5739-1719340200-1719345600@www.lwv-rva.org
SUMMARY:LWV RMA Education Committee Meeting
DESCRIPTION:LWV RMA Education Committee Meeting
URL:https://www.lwv-rva.org/event/lwv-rma-education-committee-meeting-10/
LOCATION:Zoom
CATEGORIES:Committee Meeting,Education
ORGANIZER;CN="Anna Mason":MAILTO:amason,darby@gmail.com
END:VEVENT
BEGIN:VEVENT
DTSTART;TZID=America/New_York:20240625T143000
DTEND;TZID=America/New_York:20240625T153000
DTSTAMP:20260424T083152
CREATED:20240330T013750Z
LAST-MODIFIED:20240523T013155Z
UID:5733-1719325800-1719329400@www.lwv-rva.org
SUMMARY:Cancelled:  LWV RMA Membership & Engagement Committee Meeting
DESCRIPTION:LWV RMA Membership & Engagement Committee Meeting
URL:https://www.lwv-rva.org/event/lwv-rma-membership-engagement-committee-meeting-17/
LOCATION:Zoom
CATEGORIES:Committee Meeting,Membership
ORGANIZER;CN="Carol Stephens":MAILTO:carterstephens69@icloud.com
END:VEVENT
BEGIN:VEVENT
DTSTART;TZID=America/New_York:20240624T133000
DTEND;TZID=America/New_York:20240624T143000
DTSTAMP:20260424T083152
CREATED:20240330T012734Z
LAST-MODIFIED:20240330T012734Z
UID:5727-1719235800-1719239400@www.lwv-rva.org
SUMMARY:LWV RMA Electoral Board Observation Committee Meeting
DESCRIPTION:LWV RMA Electoral Board Observation Committee Meeting
URL:https://www.lwv-rva.org/event/lwv-rma-electoral-board-observation-committee-meeting-3/
LOCATION:Zoom
CATEGORIES:Committee Meeting,Electoral Boards
ORGANIZER;CN="Mary Grace Boyle":MAILTO:boylemary55@gmail.com
END:VEVENT
BEGIN:VEVENT
DTSTART;TZID=America/New_York:20240620T173000
DTEND;TZID=America/New_York:20240620T183000
DTSTAMP:20260424T083152
CREATED:20240330T011722Z
LAST-MODIFIED:20240330T011722Z
UID:5721-1718904600-1718908200@www.lwv-rva.org
SUMMARY:LWV RMA Voter Services Committee Meeting
DESCRIPTION:LWV RMA Voter Services Committee Meeting
URL:https://www.lwv-rva.org/event/lwv-rma-voter-services-committee-meeting-19/
LOCATION:Zoom
CATEGORIES:Committee Meeting,Voter Services
ORGANIZER;CN="Mary Crutchfield":MAILTO:marycrutchfield6@gmail.com
END:VEVENT
BEGIN:VEVENT
DTSTART;TZID=America/New_York:20240617T170000
DTEND;TZID=America/New_York:20240617T180000
DTSTAMP:20260424T083152
CREATED:20240329T202430Z
LAST-MODIFIED:20240329T202518Z
UID:5706-1718643600-1718647200@www.lwv-rva.org
SUMMARY:LWV RMA DEI Monthly Committee Meeting
DESCRIPTION:LWV RMA DEI Monthly Committee Meeting
URL:https://www.lwv-rva.org/event/lwv-rma-dei-monthly-committee-meeting-11/
LOCATION:Zoom
CATEGORIES:Committee Meeting,Diversity Equity & Inclusion
ORGANIZER;CN="Dr. Doris Mallory Bey":MAILTO:imdmbey7@gmail.com
END:VEVENT
BEGIN:VEVENT
DTSTART;TZID=America/New_York:20240612T173000
DTEND;TZID=America/New_York:20240612T183000
DTSTAMP:20260424T083152
CREATED:20240329T160631Z
LAST-MODIFIED:20240329T160755Z
UID:5699-1718213400-1718217000@www.lwv-rva.org
SUMMARY:LWV RMA Communications Committee Meeting
DESCRIPTION:LWV RMA Communications Committee Meeting
URL:https://www.lwv-rva.org/event/lwv-rma-communications-committee-meeting-27/
LOCATION:Zoom
CATEGORIES:Committee Meeting,Communications
ORGANIZER;CN="Kelly Coleman":MAILTO:hellokellycoleman@gmail.com
END:VEVENT
BEGIN:VEVENT
DTSTART;TZID=America/New_York:20240604T183000
DTEND;TZID=America/New_York:20240604T200000
DTSTAMP:20260424T083152
CREATED:20240330T014213Z
LAST-MODIFIED:20240601T190025Z
UID:5737-1717525800-1717531200@www.lwv-rva.org
SUMMARY:LWV RMA Education Committee Delayed Meeting
DESCRIPTION:LWV RMA Education Committee Delayed Meeting
URL:https://www.lwv-rva.org/event/lwv-rma-education-committee-meeting-9/
LOCATION:Zoom
CATEGORIES:Committee Meeting,Education
ORGANIZER;CN="Anna Mason":MAILTO:amason,darby@gmail.com
END:VEVENT
BEGIN:VEVENT
DTSTART;TZID=America/New_York:20240528T143000
DTEND;TZID=America/New_York:20240528T153000
DTSTAMP:20260424T083152
CREATED:20240330T013523Z
LAST-MODIFIED:20240523T013104Z
UID:5731-1716906600-1716910200@www.lwv-rva.org
SUMMARY:Cancelled:  LWV RMA Membership & Engagement Committee Meeting
DESCRIPTION:LWV RMA Membership & Engagement Committee Meeting
URL:https://www.lwv-rva.org/event/lwv-rma-membership-engagement-committee-meeting-16/
LOCATION:Zoom
CATEGORIES:Committee Meeting,Membership
ORGANIZER;CN="Carol Stephens":MAILTO:carterstephens69@icloud.com
END:VEVENT
BEGIN:VEVENT
DTSTART;TZID=America/New_York:20240523T160000
DTEND;TZID=America/New_York:20240523T170000
DTSTAMP:20260424T083152
CREATED:20240330T015435Z
LAST-MODIFIED:20240330T015435Z
UID:5749-1716480000-1716483600@www.lwv-rva.org
SUMMARY:LWV RMA Events Planning Subcommittee Meeting
DESCRIPTION:LWV RMA Events Planning Subcommittee Meeting
URL:https://www.lwv-rva.org/event/lwv-rma-events-planning-subcommittee-meeting-16/
LOCATION:Zoom
CATEGORIES:Committee Meeting,Events Planning
ORGANIZER;CN="Fran Eckenrode":MAILTO:feckenr@gmail.com
END:VEVENT
BEGIN:VEVENT
DTSTART;TZID=America/New_York:20240522T120000
DTEND;TZID=America/New_York:20240522T130000
DTSTAMP:20260424T083152
CREATED:20240330T014818Z
LAST-MODIFIED:20240507T035651Z
UID:5743-1716379200-1716382800@www.lwv-rva.org
SUMMARY:LWV RMA Affordable Housing Committee Meeting - CANCELLED
DESCRIPTION:There will be no LWV RMA Affordable Housing Committee Meeting this month.
URL:https://www.lwv-rva.org/event/lwv-rma-affordable-housing-committee-meeting-17/
LOCATION:Zoom
CATEGORIES:Affordable Housing,Committee Meeting
ORGANIZER;CN="Marilyn Breslow":MAILTO:marilyn.breslow@gmail.com
END:VEVENT
BEGIN:VEVENT
DTSTART;TZID=America/New_York:20240520T170000
DTEND;TZID=America/New_York:20240520T180000
DTSTAMP:20260424T083152
CREATED:20240329T202159Z
LAST-MODIFIED:20240329T202159Z
UID:5704-1716224400-1716228000@www.lwv-rva.org
SUMMARY:LWV RMA DEI Monthly Committee Meeting
DESCRIPTION:LWV RMA DEI Monthly Committee Meeting
URL:https://www.lwv-rva.org/event/lwv-rma-dei-monthly-committee-meeting-10/
LOCATION:Zoom
CATEGORIES:Committee Meeting,Diversity Equity & Inclusion
ORGANIZER;CN="Dr. Doris Mallory Bey":MAILTO:imdmbey7@gmail.com
END:VEVENT
END:VCALENDAR