BEGIN:VCALENDAR
VERSION:2.0
PRODID:-//LWV-RMA - ECPv6.15.17//NONSGML v1.0//EN
CALSCALE:GREGORIAN
METHOD:PUBLISH
X-ORIGINAL-URL:https://www.lwv-rva.org
X-WR-CALDESC:Events for LWV-RMA
REFRESH-INTERVAL;VALUE=DURATION:PT1H
X-Robots-Tag:noindex
X-PUBLISHED-TTL:PT1H
BEGIN:VTIMEZONE
TZID:America/New_York
BEGIN:DAYLIGHT
TZOFFSETFROM:-0500
TZOFFSETTO:-0400
TZNAME:EDT
DTSTART:20230312T070000
END:DAYLIGHT
BEGIN:STANDARD
TZOFFSETFROM:-0400
TZOFFSETTO:-0500
TZNAME:EST
DTSTART:20231105T060000
END:STANDARD
BEGIN:DAYLIGHT
TZOFFSETFROM:-0500
TZOFFSETTO:-0400
TZNAME:EDT
DTSTART:20240310T070000
END:DAYLIGHT
BEGIN:STANDARD
TZOFFSETFROM:-0400
TZOFFSETTO:-0500
TZNAME:EST
DTSTART:20241103T060000
END:STANDARD
BEGIN:DAYLIGHT
TZOFFSETFROM:-0500
TZOFFSETTO:-0400
TZNAME:EDT
DTSTART:20250309T070000
END:DAYLIGHT
BEGIN:STANDARD
TZOFFSETFROM:-0400
TZOFFSETTO:-0500
TZNAME:EST
DTSTART:20251102T060000
END:STANDARD
END:VTIMEZONE
BEGIN:VEVENT
DTSTART;TZID=America/New_York:20240918T180000
DTEND;TZID=America/New_York:20240918T190000
DTSTAMP:20260423T204933
CREATED:20240828T021639Z
LAST-MODIFIED:20240828T021639Z
UID:5930-1726682400-1726686000@www.lwv-rva.org
SUMMARY:LWV RMA BOARD MEETING
DESCRIPTION:LWV RMA BOARD MEETING
URL:https://www.lwv-rva.org/event/lwv-rma-board-meeting-45/
LOCATION:Zoom
CATEGORIES:Board Meeting
ORGANIZER;CN="Anna Mason":MAILTO:amason.darby@gmail.com
END:VEVENT
BEGIN:VEVENT
DTSTART;TZID=America/New_York:20240821T180000
DTEND;TZID=America/New_York:20240821T190000
DTSTAMP:20260423T204933
CREATED:20240721T190348Z
LAST-MODIFIED:20240721T190348Z
UID:5881-1724263200-1724266800@www.lwv-rva.org
SUMMARY:LWV RMA BOARD MEETING
DESCRIPTION:LWV RMA BOARD MEETING
URL:https://www.lwv-rva.org/event/lwv-rma-board-meeting-44/
LOCATION:Zoom
CATEGORIES:Board Meeting
ORGANIZER;CN="Anna Mason":MAILTO:amason.darby@gmail.com
END:VEVENT
BEGIN:VEVENT
DTSTART;TZID=America/New_York:20240618T180000
DTEND;TZID=America/New_York:20240618T190000
DTSTAMP:20260423T204933
CREATED:20240329T203216Z
LAST-MODIFIED:20240330T010412Z
UID:5712-1718733600-1718737200@www.lwv-rva.org
SUMMARY:LWV RMA BOARD MEETING
DESCRIPTION:LWV RMA BOARD MEETING
URL:https://www.lwv-rva.org/event/lwv-rma-board-meeting-43/
LOCATION:Zoom
CATEGORIES:Board Meeting
ORGANIZER;CN="Evelyn Glazier":MAILTO:emglazier1@gmail.com
END:VEVENT
BEGIN:VEVENT
DTSTART;TZID=America/New_York:20240527T133000
DTEND;TZID=America/New_York:20240527T143000
DTSTAMP:20260423T204933
CREATED:20240330T012555Z
LAST-MODIFIED:20240330T012555Z
UID:5725-1716816600-1716820200@www.lwv-rva.org
SUMMARY:LWV RMA Electoral Board Observation Committee Meeting
DESCRIPTION:LWV RMA Electoral Board Observation Committee Meeting
URL:https://www.lwv-rva.org/event/lwv-rma-electoral-board-observation-committee-meeting-2/
LOCATION:Zoom
CATEGORIES:Board Meeting,Electoral Boards
ORGANIZER;CN="Mary Grace Boyle":MAILTO:boylemary55@gmail.com
END:VEVENT
BEGIN:VEVENT
DTSTART;TZID=America/New_York:20240521T180000
DTEND;TZID=America/New_York:20240521T190000
DTSTAMP:20260423T204933
CREATED:20240329T202954Z
LAST-MODIFIED:20240329T202954Z
UID:5710-1716314400-1716318000@www.lwv-rva.org
SUMMARY:LWV RMA BOARD MEETING
DESCRIPTION:LWV RMA BOARD MEETING
URL:https://www.lwv-rva.org/event/lwv-rma-board-meeting-42/
LOCATION:Zoom
CATEGORIES:Board Meeting
ORGANIZER;CN="Evelyn Glazier":MAILTO:emglazier1@gmail.com
END:VEVENT
BEGIN:VEVENT
DTSTART;TZID=America/New_York:20240416T180000
DTEND;TZID=America/New_York:20240416T190000
DTSTAMP:20260423T204933
CREATED:20240329T202740Z
LAST-MODIFIED:20240329T202740Z
UID:5708-1713290400-1713294000@www.lwv-rva.org
SUMMARY:LWV RMA BOARD MEETING
DESCRIPTION:LWV RMA BOARD MEETING
URL:https://www.lwv-rva.org/event/lwv-rma-board-meeting-41/
LOCATION:Zoom
CATEGORIES:Board Meeting
ORGANIZER;CN="Evelyn Glazier":MAILTO:emglazier1@gmail.com
END:VEVENT
BEGIN:VEVENT
DTSTART;TZID=America/New_York:20240319T180000
DTEND;TZID=America/New_York:20240319T190000
DTSTAMP:20260423T204933
CREATED:20231216T200218Z
LAST-MODIFIED:20231216T200218Z
UID:5583-1710871200-1710874800@www.lwv-rva.org
SUMMARY:LWV RMA BOARD MEETING
DESCRIPTION:LWV RMA BOARD MEETING
URL:https://www.lwv-rva.org/event/lwv-rma-board-meeting-40/
LOCATION:Zoom
CATEGORIES:Board Meeting
ORGANIZER;CN="Evelyn Glazier":MAILTO:emglazier1@gmail.com
END:VEVENT
BEGIN:VEVENT
DTSTART;TZID=America/New_York:20240220T180000
DTEND;TZID=America/New_York:20240220T190000
DTSTAMP:20260423T204933
CREATED:20231216T185239Z
LAST-MODIFIED:20231216T185239Z
UID:5581-1708452000-1708455600@www.lwv-rva.org
SUMMARY:LWV RMA BOARD MEETING
DESCRIPTION:LWV RMA BOARD MEETING
URL:https://www.lwv-rva.org/event/lwv-rma-board-meeting-38/
LOCATION:Zoom
CATEGORIES:Board Meeting
ORGANIZER;CN="Evelyn Glazier":MAILTO:emglazier1@gmail.com
END:VEVENT
END:VCALENDAR