BEGIN:VCALENDAR
VERSION:2.0
PRODID:-//LWV-RMA - ECPv6.15.17//NONSGML v1.0//EN
CALSCALE:GREGORIAN
METHOD:PUBLISH
X-ORIGINAL-URL:https://www.lwv-rva.org
X-WR-CALDESC:Events for LWV-RMA
REFRESH-INTERVAL;VALUE=DURATION:PT1H
X-Robots-Tag:noindex
X-PUBLISHED-TTL:PT1H
BEGIN:VTIMEZONE
TZID:America/New_York
BEGIN:DAYLIGHT
TZOFFSETFROM:-0500
TZOFFSETTO:-0400
TZNAME:EDT
DTSTART:20230312T070000
END:DAYLIGHT
BEGIN:STANDARD
TZOFFSETFROM:-0400
TZOFFSETTO:-0500
TZNAME:EST
DTSTART:20231105T060000
END:STANDARD
BEGIN:DAYLIGHT
TZOFFSETFROM:-0500
TZOFFSETTO:-0400
TZNAME:EDT
DTSTART:20240310T070000
END:DAYLIGHT
BEGIN:STANDARD
TZOFFSETFROM:-0400
TZOFFSETTO:-0500
TZNAME:EST
DTSTART:20241103T060000
END:STANDARD
BEGIN:DAYLIGHT
TZOFFSETFROM:-0500
TZOFFSETTO:-0400
TZNAME:EDT
DTSTART:20250309T070000
END:DAYLIGHT
BEGIN:STANDARD
TZOFFSETFROM:-0400
TZOFFSETTO:-0500
TZNAME:EST
DTSTART:20251102T060000
END:STANDARD
END:VTIMEZONE
BEGIN:VEVENT
DTSTART;TZID=America/New_York:20240626T120000
DTEND;TZID=America/New_York:20240626T130000
DTSTAMP:20260423T182547
CREATED:20240330T014950Z
LAST-MODIFIED:20240330T014950Z
UID:5745-1719403200-1719406800@www.lwv-rva.org
SUMMARY:LWV RMA Affordable Housing Committee Meeting
DESCRIPTION:LWV RMA Affordable Housing Committee Meeting
URL:https://www.lwv-rva.org/event/lwv-rma-affordable-housing-committee-meeting-18/
LOCATION:Zoom
CATEGORIES:Affordable Housing,Committee Meeting
ORGANIZER;CN="Marilyn Breslow":MAILTO:marilyn.breslow@gmail.com
END:VEVENT
BEGIN:VEVENT
DTSTART;TZID=America/New_York:20240615T100000
DTEND;TZID=America/New_York:20240615T140000
DTSTAMP:20260423T182547
CREATED:20240414T145713Z
LAST-MODIFIED:20240414T145713Z
UID:5758-1718445600-1718460000@www.lwv-rva.org
SUMMARY:Richmond Metro Affordable Housing Van Tour
DESCRIPTION:Richmond Metro Affordable Housing Van Tour 10am to 2pm meeting up at First Baptist Church\, corner of Monument Avenue and Arthur Ashe Boulevard.  Visiting three affordable housing projects: Better Housing Coalition’s Winchester Green\, ProjectHomes’ Bermuda Estate (mobile home park) and Virginia Supportive Housing residence. Lunch will be provided. RSVP to Alice Tousignant at alice@hdadvisors.net.
URL:https://www.lwv-rva.org/event/richmond-metro-affordable-housing-van-tour/
LOCATION:First Baptist Church\, 2709 Monument Ave\, Richmond\, Virginia\, 23220
CATEGORIES:Affordable Housing
ORGANIZER;CN="Marilyn Breslow":MAILTO:marilyn.breslow@gmail.com
END:VEVENT
BEGIN:VEVENT
DTSTART;TZID=America/New_York:20240522T120000
DTEND;TZID=America/New_York:20240522T130000
DTSTAMP:20260423T182547
CREATED:20240330T014818Z
LAST-MODIFIED:20240507T035651Z
UID:5743-1716379200-1716382800@www.lwv-rva.org
SUMMARY:LWV RMA Affordable Housing Committee Meeting - CANCELLED
DESCRIPTION:There will be no LWV RMA Affordable Housing Committee Meeting this month.
URL:https://www.lwv-rva.org/event/lwv-rma-affordable-housing-committee-meeting-17/
LOCATION:Zoom
CATEGORIES:Affordable Housing,Committee Meeting
ORGANIZER;CN="Marilyn Breslow":MAILTO:marilyn.breslow@gmail.com
END:VEVENT
BEGIN:VEVENT
DTSTART;TZID=America/New_York:20240424T120000
DTEND;TZID=America/New_York:20240424T130000
DTSTAMP:20260423T182547
CREATED:20240330T014643Z
LAST-MODIFIED:20240330T014643Z
UID:5741-1713960000-1713963600@www.lwv-rva.org
SUMMARY:LWV RMA Affordable Housing Committee Meeting
DESCRIPTION:LWV RMA Affordable Housing Committee Meeting
URL:https://www.lwv-rva.org/event/lwv-rma-affordable-housing-committee-meeting-16/
LOCATION:Zoom
CATEGORIES:Affordable Housing,Committee Meeting
ORGANIZER;CN="Marilyn Breslow":MAILTO:marilyn.breslow@gmail.com
END:VEVENT
BEGIN:VEVENT
DTSTART;TZID=America/New_York:20240327T120000
DTEND;TZID=America/New_York:20240327T130000
DTSTAMP:20260423T182547
CREATED:20231216T195531Z
LAST-MODIFIED:20240317T161408Z
UID:5608-1711540800-1711544400@www.lwv-rva.org
SUMMARY:Cancelled for March:  LWV RMA Affordable Housing Committee Meeting
DESCRIPTION:Cancelled for March:  LWV RMA Affordable Housing Committee Meeting
URL:https://www.lwv-rva.org/event/lwv-rma-affordable-housing-committee-meeting-15/
LOCATION:Zoom
CATEGORIES:Affordable Housing,Committee Meeting,Housing
ORGANIZER;CN="Marilyn Breslow":MAILTO:marilyn.breslow@gmail.com
END:VEVENT
BEGIN:VEVENT
DTSTART;TZID=America/New_York:20240228T120000
DTEND;TZID=America/New_York:20240228T130000
DTSTAMP:20260423T182547
CREATED:20231216T195435Z
LAST-MODIFIED:20231216T195435Z
UID:5606-1709121600-1709125200@www.lwv-rva.org
SUMMARY:LWV RMA Affordable Housing Committee Meeting
DESCRIPTION:LWV RMA Affordable Housing Committee Meeting
URL:https://www.lwv-rva.org/event/lwv-rma-affordable-housing-committee-meeting-10/
LOCATION:Zoom
CATEGORIES:Affordable Housing,Committee Meeting
ORGANIZER;CN="Marilyn Breslow":MAILTO:marilyn.breslow@gmail.com
END:VEVENT
BEGIN:VEVENT
DTSTART;TZID=America/New_York:20240124T120000
DTEND;TZID=America/New_York:20240124T130000
DTSTAMP:20260423T182547
CREATED:20231216T195242Z
LAST-MODIFIED:20231216T195242Z
UID:5604-1706097600-1706101200@www.lwv-rva.org
SUMMARY:LWV RMA Affordable Housing Committee Meeting
DESCRIPTION:LWV RMA Affordable Housing Committee Meeting
URL:https://www.lwv-rva.org/event/lwv-rma-affordable-housing-committee-meeting-9/
LOCATION:Zoom
CATEGORIES:Affordable Housing,Committee Meeting
ORGANIZER;CN="Marilyn Breslow":MAILTO:marilyn.breslow@gmail.com
END:VEVENT
END:VCALENDAR